BEGIN:VCALENDAR
VERSION:2.0
PRODID:-//Gabinet Weterynaryjny RubinVet | Piaseczno, Józefosław - ECPv4.9.8//NONSGML v1.0//EN
CALSCALE:GREGORIAN
METHOD:PUBLISH
X-WR-CALNAME:Gabinet Weterynaryjny RubinVet | Piaseczno, Józefosław
X-ORIGINAL-URL:https://rubinvet.pl
X-WR-CALDESC:Dyżury: Gabinet Weterynaryjny RubinVet | Piaseczno, Józefosław
BEGIN:VTIMEZONE
TZID:Europe/Warsaw
BEGIN:DAYLIGHT
TZOFFSETFROM:+0100
TZOFFSETTO:+0200
TZNAME:CEST
DTSTART:20250330T010000
END:DAYLIGHT
BEGIN:STANDARD
TZOFFSETFROM:+0200
TZOFFSETTO:+0100
TZNAME:CET
DTSTART:20251026T010000
END:STANDARD
END:VTIMEZONE
BEGIN:VEVENT
DTSTART;TZID="Europe/Warsaw":20250825T080000
DTEND;TZID="Europe/Warsaw":20250825T143000
DTSTAMP:20260426T000055
CREATED:20250801T132801Z
LAST-MODIFIED:20250801T132801Z
UID:11982-1756108800-1756132200@rubinvet.pl
SUMMARY:8.00 - 14.30 lek. wet. Anna Branach - Małachowska zapisy
DESCRIPTION:
URL:https://rubinvet.pl/dyzur/8-00-14-30-lek-wet-anna-branach-malachowska-zapisy-4/
END:VEVENT
BEGIN:VEVENT
DTSTART;TZID="Europe/Warsaw":20250825T080000
DTEND;TZID="Europe/Warsaw":20250825T143000
DTSTAMP:20260426T000055
CREATED:20250801T132821Z
LAST-MODIFIED:20250801T132821Z
UID:11984-1756108800-1756132200@rubinvet.pl
SUMMARY:8.00 - 14.30 lek. wet. Adrianna Raboszuk
DESCRIPTION:
URL:https://rubinvet.pl/dyzur/8-00-14-30-lek-wet-adrianna-raboszuk-67/
END:VEVENT
BEGIN:VEVENT
DTSTART;TZID="Europe/Warsaw":20250825T080000
DTEND;TZID="Europe/Warsaw":20250825T143000
DTSTAMP:20260426T000055
CREATED:20250801T132926Z
LAST-MODIFIED:20250801T132926Z
UID:11990-1756108800-1756132200@rubinvet.pl
SUMMARY:8.00 - 14.30 lek. wet. Julia Bolanowska
DESCRIPTION:
URL:https://rubinvet.pl/dyzur/8-00-14-30-lek-wet-julia-bolanowska-48/
END:VEVENT
BEGIN:VEVENT
DTSTART;TZID="Europe/Warsaw":20250825T140000
DTEND;TZID="Europe/Warsaw":20250825T210000
DTSTAMP:20260426T000055
CREATED:20250801T132905Z
LAST-MODIFIED:20250801T132905Z
UID:11988-1756130400-1756155600@rubinvet.pl
SUMMARY:14.00 - 21.00 tech. wet. Dominika Michalak
DESCRIPTION:
URL:https://rubinvet.pl/dyzur/14-00-21-00-tech-wet-dominika-michalak-210/
END:VEVENT
BEGIN:VEVENT
DTSTART;TZID="Europe/Warsaw":20250825T143000
DTEND;TZID="Europe/Warsaw":20250825T210000
DTSTAMP:20260426T000055
CREATED:20250801T132844Z
LAST-MODIFIED:20250801T132844Z
UID:11986-1756132200-1756155600@rubinvet.pl
SUMMARY:14.30 - 21.00 lek. wet. Zofia Maksimowicz-Malik zapisy
DESCRIPTION:
URL:https://rubinvet.pl/dyzur/14-30-21-00-lek-wet-zofia-maksimowicz-malik-zapisy-12/
END:VEVENT
BEGIN:VEVENT
DTSTART;TZID="Europe/Warsaw":20250825T143000
DTEND;TZID="Europe/Warsaw":20250825T210000
DTSTAMP:20260426T000055
CREATED:20250801T132951Z
LAST-MODIFIED:20250801T132951Z
UID:11992-1756132200-1756155600@rubinvet.pl
SUMMARY:14.30 - 21.00 lek. wet. Gabriela Winiarska
DESCRIPTION:
URL:https://rubinvet.pl/dyzur/14-30-21-00-lek-wet-gabriela-winiarska-74/
END:VEVENT
END:VCALENDAR