BEGIN:VCALENDAR
VERSION:2.0
PRODID:-//Gabinet Weterynaryjny RubinVet | Piaseczno, Józefosław - ECPv4.9.8//NONSGML v1.0//EN
CALSCALE:GREGORIAN
METHOD:PUBLISH
X-WR-CALNAME:Gabinet Weterynaryjny RubinVet | Piaseczno, Józefosław
X-ORIGINAL-URL:https://rubinvet.pl
X-WR-CALDESC:Dyżury: Gabinet Weterynaryjny RubinVet | Piaseczno, Józefosław
BEGIN:VTIMEZONE
TZID:Europe/Warsaw
BEGIN:DAYLIGHT
TZOFFSETFROM:+0100
TZOFFSETTO:+0200
TZNAME:CEST
DTSTART:20250330T010000
END:DAYLIGHT
BEGIN:STANDARD
TZOFFSETFROM:+0200
TZOFFSETTO:+0100
TZNAME:CET
DTSTART:20251026T010000
END:STANDARD
END:VTIMEZONE
BEGIN:VEVENT
DTSTART;TZID="Europe/Warsaw":20250826T080000
DTEND;TZID="Europe/Warsaw":20250826T143000
DTSTAMP:20260425T225521
CREATED:20250801T133013Z
LAST-MODIFIED:20250801T133013Z
UID:11994-1756195200-1756218600@rubinvet.pl
SUMMARY:8.00 - 14.30 lek. wet. Rafał Kaczor zapisy
DESCRIPTION:
URL:https://rubinvet.pl/dyzur/8-00-14-30-lek-wet-rafal-kaczor-zapisy-62/
END:VEVENT
BEGIN:VEVENT
DTSTART;TZID="Europe/Warsaw":20250826T080000
DTEND;TZID="Europe/Warsaw":20250826T143000
DTSTAMP:20260425T225521
CREATED:20250801T133055Z
LAST-MODIFIED:20250801T133055Z
UID:11998-1756195200-1756218600@rubinvet.pl
SUMMARY:8.00 - 14.30 lek. wet. Zofia Maksimowicz-Malik
DESCRIPTION:
URL:https://rubinvet.pl/dyzur/8-00-14-30-lek-wet-zofia-maksimowicz-malik-69/
END:VEVENT
BEGIN:VEVENT
DTSTART;TZID="Europe/Warsaw":20250826T080000
DTEND;TZID="Europe/Warsaw":20250826T143000
DTSTAMP:20260425T225521
CREATED:20250801T133117Z
LAST-MODIFIED:20250801T133117Z
UID:12000-1756195200-1756218600@rubinvet.pl
SUMMARY:8.00 - 14.30 lek. wet. Adrianna Raboszuk
DESCRIPTION:
URL:https://rubinvet.pl/dyzur/8-00-14-30-lek-wet-adrianna-raboszuk-68/
END:VEVENT
BEGIN:VEVENT
DTSTART;TZID="Europe/Warsaw":20250826T080000
DTEND;TZID="Europe/Warsaw":20250826T143000
DTSTAMP:20260425T225521
CREATED:20250801T133136Z
LAST-MODIFIED:20250801T133136Z
UID:12002-1756195200-1756218600@rubinvet.pl
SUMMARY:8.00 - 14.30  lek. wet. Julia Bolanowska
DESCRIPTION:
URL:https://rubinvet.pl/dyzur/8-00-14-30-lek-wet-julia-bolanowska-49/
END:VEVENT
BEGIN:VEVENT
DTSTART;TZID="Europe/Warsaw":20250826T140000
DTEND;TZID="Europe/Warsaw":20250826T210000
DTSTAMP:20260425T225521
CREATED:20250801T133207Z
LAST-MODIFIED:20250801T133207Z
UID:12004-1756216800-1756242000@rubinvet.pl
SUMMARY:14.00 - 21.00 tech. wet. Dominika Michalak
DESCRIPTION:
URL:https://rubinvet.pl/dyzur/14-00-21-00-tech-wet-dominika-michalak-211/
END:VEVENT
BEGIN:VEVENT
DTSTART;TZID="Europe/Warsaw":20250826T143000
DTEND;TZID="Europe/Warsaw":20250826T210000
DTSTAMP:20260425T225521
CREATED:20250801T133026Z
LAST-MODIFIED:20250801T133026Z
UID:11996-1756218600-1756242000@rubinvet.pl
SUMMARY:14.30 - 21.00 lek. wet. Gabriela Winiarska
DESCRIPTION:
URL:https://rubinvet.pl/dyzur/14-30-21-00-lek-wet-gabriela-winiarska-75/
END:VEVENT
BEGIN:VEVENT
DTSTART;TZID="Europe/Warsaw":20250826T143000
DTEND;TZID="Europe/Warsaw":20250826T210000
DTSTAMP:20260425T225521
CREATED:20250801T133244Z
LAST-MODIFIED:20250801T133244Z
UID:12006-1756218600-1756242000@rubinvet.pl
SUMMARY:14.30 - 21.00 lek. wet. Anna Branach - Małachowska zapisy
DESCRIPTION:
URL:https://rubinvet.pl/dyzur/14-30-21-00-lek-wet-anna-branach-malachowska-zapisy-3/
END:VEVENT
BEGIN:VEVENT
DTSTART;TZID="Europe/Warsaw":20250826T170000
DTEND;TZID="Europe/Warsaw":20250826T210000
DTSTAMP:20260425T225521
CREATED:20250801T133351Z
LAST-MODIFIED:20250801T133351Z
UID:12010-1756227600-1756242000@rubinvet.pl
SUMMARY:17.00 - 21.00 lek. wet. Roman Goncharuk zapisy
DESCRIPTION:
URL:https://rubinvet.pl/dyzur/17-00-21-00-lek-wet-roman-goncharuk-zapisy-17/
END:VEVENT
END:VCALENDAR