BEGIN:VCALENDAR
VERSION:2.0
PRODID:-//Gabinet Weterynaryjny RubinVet | Piaseczno, Józefosław - ECPv4.9.8//NONSGML v1.0//EN
CALSCALE:GREGORIAN
METHOD:PUBLISH
X-WR-CALNAME:Gabinet Weterynaryjny RubinVet | Piaseczno, Józefosław
X-ORIGINAL-URL:https://rubinvet.pl
X-WR-CALDESC:Dyżury: Gabinet Weterynaryjny RubinVet | Piaseczno, Józefosław
BEGIN:VTIMEZONE
TZID:Europe/Warsaw
BEGIN:DAYLIGHT
TZOFFSETFROM:+0100
TZOFFSETTO:+0200
TZNAME:CEST
DTSTART:20250330T010000
END:DAYLIGHT
BEGIN:STANDARD
TZOFFSETFROM:+0200
TZOFFSETTO:+0100
TZNAME:CET
DTSTART:20251026T010000
END:STANDARD
END:VTIMEZONE
BEGIN:VEVENT
DTSTART;TZID="Europe/Warsaw":20250827T080000
DTEND;TZID="Europe/Warsaw":20250827T143000
DTSTAMP:20260425T212640
CREATED:20250801T133423Z
LAST-MODIFIED:20250801T133423Z
UID:12012-1756281600-1756305000@rubinvet.pl
SUMMARY:8.00 - 14.30 lek. wet. Adrianna Raboszuk zapisy
DESCRIPTION:
URL:https://rubinvet.pl/dyzur/8-00-14-30-lek-wet-adrianna-raboszuk-zapisy-15/
END:VEVENT
BEGIN:VEVENT
DTSTART;TZID="Europe/Warsaw":20250827T080000
DTEND;TZID="Europe/Warsaw":20250827T143000
DTSTAMP:20260425T212640
CREATED:20250801T133440Z
LAST-MODIFIED:20250801T133440Z
UID:12014-1756281600-1756305000@rubinvet.pl
SUMMARY:8.00 - 14.30 lek. wet. Gabriela Winiarska
DESCRIPTION:
URL:https://rubinvet.pl/dyzur/8-00-14-30-lek-wet-gabriela-winiarska-59/
END:VEVENT
BEGIN:VEVENT
DTSTART;TZID="Europe/Warsaw":20250827T080000
DTEND;TZID="Europe/Warsaw":20250827T150000
DTSTAMP:20260425T212640
CREATED:20250801T133459Z
LAST-MODIFIED:20250801T133459Z
UID:12016-1756281600-1756306800@rubinvet.pl
SUMMARY:8.00 - 15.00 tech. wet. Dominika Michalak
DESCRIPTION:
URL:https://rubinvet.pl/dyzur/8-00-15-00-tech-wet-dominika-michalak-241/
END:VEVENT
BEGIN:VEVENT
DTSTART;TZID="Europe/Warsaw":20250827T143000
DTEND;TZID="Europe/Warsaw":20250827T210000
DTSTAMP:20260425T212640
CREATED:20250801T133523Z
LAST-MODIFIED:20250801T133523Z
UID:12018-1756305000-1756328400@rubinvet.pl
SUMMARY:14.30 - 21.00 lek. wet. Anna Branach - Małachowska zapisy
DESCRIPTION:
URL:https://rubinvet.pl/dyzur/14-30-21-00-lek-wet-anna-branach-malachowska-zapisy-4/
END:VEVENT
BEGIN:VEVENT
DTSTART;TZID="Europe/Warsaw":20250827T143000
DTEND;TZID="Europe/Warsaw":20250827T210000
DTSTAMP:20260425T212640
CREATED:20250801T133549Z
LAST-MODIFIED:20250801T133549Z
UID:12020-1756305000-1756328400@rubinvet.pl
SUMMARY:14.30 - 21.00 lek. wet. Rafał Kaczor
DESCRIPTION:
URL:https://rubinvet.pl/dyzur/14-30-21-00-lek-wet-rafal-kaczor-473/
END:VEVENT
BEGIN:VEVENT
DTSTART;TZID="Europe/Warsaw":20250827T143000
DTEND;TZID="Europe/Warsaw":20250827T210000
DTSTAMP:20260425T212640
CREATED:20250801T133610Z
LAST-MODIFIED:20250801T133610Z
UID:12022-1756305000-1756328400@rubinvet.pl
SUMMARY:14.30 - 21.00 lek. wet. Julia Bolanowska
DESCRIPTION:
URL:https://rubinvet.pl/dyzur/14-30-21-00-lek-wet-julia-bolanowska-52/
END:VEVENT
END:VCALENDAR