BEGIN:VCALENDAR
VERSION:2.0
PRODID:-//Gabinet Weterynaryjny RubinVet | Piaseczno, Józefosław - ECPv4.9.8//NONSGML v1.0//EN
CALSCALE:GREGORIAN
METHOD:PUBLISH
X-WR-CALNAME:Gabinet Weterynaryjny RubinVet | Piaseczno, Józefosław
X-ORIGINAL-URL:https://rubinvet.pl
X-WR-CALDESC:Dyżury: Gabinet Weterynaryjny RubinVet | Piaseczno, Józefosław
BEGIN:VTIMEZONE
TZID:Europe/Warsaw
BEGIN:DAYLIGHT
TZOFFSETFROM:+0100
TZOFFSETTO:+0200
TZNAME:CEST
DTSTART:20250330T010000
END:DAYLIGHT
BEGIN:STANDARD
TZOFFSETFROM:+0200
TZOFFSETTO:+0100
TZNAME:CET
DTSTART:20251026T010000
END:STANDARD
END:VTIMEZONE
BEGIN:VEVENT
DTSTART;TZID="Europe/Warsaw":20250829T080000
DTEND;TZID="Europe/Warsaw":20250829T143000
DTSTAMP:20260425T183048
CREATED:20250729T183432Z
LAST-MODIFIED:20250729T183432Z
UID:11922-1756454400-1756477800@rubinvet.pl
SUMMARY:8.00 - 14.30 lek. wet. Gabriela Winiarska
DESCRIPTION:
URL:https://rubinvet.pl/dyzur/8-00-14-30-lek-wet-gabriela-winiarska-58/
END:VEVENT
BEGIN:VEVENT
DTSTART;TZID="Europe/Warsaw":20250829T080000
DTEND;TZID="Europe/Warsaw":20250829T150000
DTSTAMP:20260425T183048
CREATED:20250729T183502Z
LAST-MODIFIED:20250729T183502Z
UID:11924-1756454400-1756479600@rubinvet.pl
SUMMARY:8.00 - 15.00 tech. wet. Dominika Michalak
DESCRIPTION:
URL:https://rubinvet.pl/dyzur/8-00-15-00-tech-wet-dominika-michalak-238/
END:VEVENT
BEGIN:VEVENT
DTSTART;TZID="Europe/Warsaw":20250829T080000
DTEND;TZID="Europe/Warsaw":20250829T143000
DTSTAMP:20260425T183048
CREATED:20250729T183636Z
LAST-MODIFIED:20250820T163256Z
UID:11930-1756454400-1756477800@rubinvet.pl
SUMMARY:8.00 - 14.30 lek. wet. Julia Bolanowska
DESCRIPTION:
URL:https://rubinvet.pl/dyzur/14-30-21-00-lek-wet-julia-bolanowska-50/
END:VEVENT
BEGIN:VEVENT
DTSTART;TZID="Europe/Warsaw":20250829T143000
DTEND;TZID="Europe/Warsaw":20250829T210000
DTSTAMP:20260425T183048
CREATED:20250729T183345Z
LAST-MODIFIED:20250820T163414Z
UID:11920-1756477800-1756501200@rubinvet.pl
SUMMARY:14.30 - 21.00 lek. wet. Anna Branach - Małachowska zapisy
DESCRIPTION:
URL:https://rubinvet.pl/dyzur/8-00-14-30-lek-wet-anna-branach-malachowska-zapisy-2/
END:VEVENT
BEGIN:VEVENT
DTSTART;TZID="Europe/Warsaw":20250829T143000
DTEND;TZID="Europe/Warsaw":20250829T210000
DTSTAMP:20260425T183048
CREATED:20250729T183608Z
LAST-MODIFIED:20250729T183608Z
UID:11928-1756477800-1756501200@rubinvet.pl
SUMMARY:14.30 - 21.00 lek. wet. Adrianna Raboszuk
DESCRIPTION:
URL:https://rubinvet.pl/dyzur/14-30-21-00-lek-wet-adrianna-raboszuk-16/
END:VEVENT
END:VCALENDAR