BEGIN:VCALENDAR
VERSION:2.0
PRODID:-//Gabinet Weterynaryjny RubinVet | Piaseczno, Józefosław - ECPv4.9.8//NONSGML v1.0//EN
CALSCALE:GREGORIAN
METHOD:PUBLISH
X-WR-CALNAME:Gabinet Weterynaryjny RubinVet | Piaseczno, Józefosław
X-ORIGINAL-URL:https://rubinvet.pl
X-WR-CALDESC:Dyżury: Gabinet Weterynaryjny RubinVet | Piaseczno, Józefosław
BEGIN:VTIMEZONE
TZID:Europe/Warsaw
BEGIN:DAYLIGHT
TZOFFSETFROM:+0100
TZOFFSETTO:+0200
TZNAME:CEST
DTSTART:20250330T010000
END:DAYLIGHT
BEGIN:STANDARD
TZOFFSETFROM:+0200
TZOFFSETTO:+0100
TZNAME:CET
DTSTART:20251026T010000
END:STANDARD
END:VTIMEZONE
BEGIN:VEVENT
DTSTART;TZID="Europe/Warsaw":20250930T080000
DTEND;TZID="Europe/Warsaw":20250930T133000
DTSTAMP:20260425T122537
CREATED:20250819T093620Z
LAST-MODIFIED:20250819T093620Z
UID:12319-1759219200-1759239000@rubinvet.pl
SUMMARY:8.00 - 13.30 lek. wet. Adrianna Raboszuk
DESCRIPTION:
URL:https://rubinvet.pl/dyzur/8-00-13-30-lek-wet-adrianna-raboszuk-11/
END:VEVENT
BEGIN:VEVENT
DTSTART;TZID="Europe/Warsaw":20250930T080000
DTEND;TZID="Europe/Warsaw":20250930T143000
DTSTAMP:20260425T122537
CREATED:20250819T093709Z
LAST-MODIFIED:20250819T093709Z
UID:12324-1759219200-1759242600@rubinvet.pl
SUMMARY:8.00 - 14.30 lek. wet. Zofia Maksimowicz-Malik zapisy
DESCRIPTION:
URL:https://rubinvet.pl/dyzur/8-00-14-30-lek-wet-zofia-maksimowicz-malik-zapisy-14/
END:VEVENT
BEGIN:VEVENT
DTSTART;TZID="Europe/Warsaw":20250930T080000
DTEND;TZID="Europe/Warsaw":20250930T150000
DTSTAMP:20260425T122537
CREATED:20250819T093853Z
LAST-MODIFIED:20250820T171237Z
UID:12332-1759219200-1759244400@rubinvet.pl
SUMMARY:8.00 - 15.00 tech. wet. Dominika Michalak
DESCRIPTION:
URL:https://rubinvet.pl/dyzur/14-00-21-00-tech-wet-dominika-michalak-222/
END:VEVENT
BEGIN:VEVENT
DTSTART;TZID="Europe/Warsaw":20250930T093000
DTEND;TZID="Europe/Warsaw":20250930T153000
DTSTAMP:20260425T122537
CREATED:20250819T093642Z
LAST-MODIFIED:20250901T125120Z
UID:12322-1759224600-1759246200@rubinvet.pl
SUMMARY:9.30 - 15.30 lek. wet. Rafał Kaczor zapisy
DESCRIPTION:
URL:https://rubinvet.pl/dyzur/8-00-14-30-lek-wet-rafal-kaczor-zapisy-71/
END:VEVENT
BEGIN:VEVENT
DTSTART;TZID="Europe/Warsaw":20250930T143000
DTEND;TZID="Europe/Warsaw":20250930T210000
DTSTAMP:20260425T122537
CREATED:20250819T093733Z
LAST-MODIFIED:20250819T093733Z
UID:12326-1759242600-1759266000@rubinvet.pl
SUMMARY:14.30 - 21.00 lek. wet. Julia Bolanowska
DESCRIPTION:
URL:https://rubinvet.pl/dyzur/14-30-21-00-lek-wet-julia-bolanowska-61/
END:VEVENT
BEGIN:VEVENT
DTSTART;TZID="Europe/Warsaw":20250930T143000
DTEND;TZID="Europe/Warsaw":20250930T210000
DTSTAMP:20260425T122537
CREATED:20250819T093755Z
LAST-MODIFIED:20250819T093755Z
UID:12328-1759242600-1759266000@rubinvet.pl
SUMMARY:14.30 - 21.00 lek. wet. Anna Branach-Małachowska zapisy
DESCRIPTION:
URL:https://rubinvet.pl/dyzur/14-30-21-00-lek-wet-anna-branach-malachowska-zapisy-9/
END:VEVENT
BEGIN:VEVENT
DTSTART;TZID="Europe/Warsaw":20250930T170000
DTEND;TZID="Europe/Warsaw":20250930T210000
DTSTAMP:20260425T122537
CREATED:20250820T094746Z
LAST-MODIFIED:20250820T094746Z
UID:12336-1759251600-1759266000@rubinvet.pl
SUMMARY:17.00 – 21.00 lek. wet. Roman Goncharuk zapisy
DESCRIPTION:
URL:https://rubinvet.pl/dyzur/17-00-21-00-lek-wet-roman-goncharuk-zapisy-19/
END:VEVENT
END:VCALENDAR