BEGIN:VCALENDAR
VERSION:2.0
PRODID:-//Gabinet Weterynaryjny RubinVet | Piaseczno, Józefosław - ECPv4.9.8//NONSGML v1.0//EN
CALSCALE:GREGORIAN
METHOD:PUBLISH
X-WR-CALNAME:Gabinet Weterynaryjny RubinVet | Piaseczno, Józefosław
X-ORIGINAL-URL:https://rubinvet.pl
X-WR-CALDESC:Dyżury: Gabinet Weterynaryjny RubinVet | Piaseczno, Józefosław
BEGIN:VTIMEZONE
TZID:Europe/Warsaw
BEGIN:DAYLIGHT
TZOFFSETFROM:+0100
TZOFFSETTO:+0200
TZNAME:CEST
DTSTART:20250330T010000
END:DAYLIGHT
BEGIN:STANDARD
TZOFFSETFROM:+0200
TZOFFSETTO:+0100
TZNAME:CET
DTSTART:20251026T010000
END:STANDARD
END:VTIMEZONE
BEGIN:VEVENT
DTSTART;TZID="Europe/Warsaw":20251020T080000
DTEND;TZID="Europe/Warsaw":20251020T143000
DTSTAMP:20260425T165044
CREATED:20250930T064740Z
LAST-MODIFIED:20250930T064740Z
UID:12564-1760947200-1760970600@rubinvet.pl
SUMMARY:8.00 - 14.30 lek. wet. Adrianna Raboszuk zapisy
DESCRIPTION:
URL:https://rubinvet.pl/dyzur/8-00-14-30-lek-wet-adrianna-raboszuk-zapisy-21/
END:VEVENT
BEGIN:VEVENT
DTSTART;TZID="Europe/Warsaw":20251020T080000
DTEND;TZID="Europe/Warsaw":20251020T143000
DTSTAMP:20260425T165044
CREATED:20251001T082801Z
LAST-MODIFIED:20251015T141823Z
UID:12568-1760947200-1760970600@rubinvet.pl
SUMMARY:14.30 - 21.00 lek. wet. Gabriela Winiarska
DESCRIPTION:
URL:https://rubinvet.pl/dyzur/8-00-14-30-lek-wet-gabriela-winiarska-67/
END:VEVENT
BEGIN:VEVENT
DTSTART;TZID="Europe/Warsaw":20251020T080000
DTEND;TZID="Europe/Warsaw":20251020T143000
DTSTAMP:20260425T165044
CREATED:20251001T082914Z
LAST-MODIFIED:20251015T141724Z
UID:12574-1760947200-1760970600@rubinvet.pl
SUMMARY:8.00 - 14.30 lek. wet. Marta Barczak
DESCRIPTION:
URL:https://rubinvet.pl/dyzur/14-30-21-00-lek-wet-marta-barczak-5/
END:VEVENT
BEGIN:VEVENT
DTSTART;TZID="Europe/Warsaw":20251020T140000
DTEND;TZID="Europe/Warsaw":20251020T210000
DTSTAMP:20260425T165044
CREATED:20251001T082829Z
LAST-MODIFIED:20251001T082829Z
UID:12570-1760968800-1760994000@rubinvet.pl
SUMMARY:14.00 - 21.00 tech. wet. Dominika Michalak
DESCRIPTION:
URL:https://rubinvet.pl/dyzur/14-00-21-00-tech-wet-dominika-michalak-228/
END:VEVENT
END:VCALENDAR