BEGIN:VCALENDAR
VERSION:2.0
PRODID:-//Gabinet Weterynaryjny RubinVet | Piaseczno, Józefosław - ECPv4.9.8//NONSGML v1.0//EN
CALSCALE:GREGORIAN
METHOD:PUBLISH
X-WR-CALNAME:Gabinet Weterynaryjny RubinVet | Piaseczno, Józefosław
X-ORIGINAL-URL:https://rubinvet.pl
X-WR-CALDESC:Dyżury: Gabinet Weterynaryjny RubinVet | Piaseczno, Józefosław
BEGIN:VTIMEZONE
TZID:Europe/Warsaw
BEGIN:DAYLIGHT
TZOFFSETFROM:+0100
TZOFFSETTO:+0200
TZNAME:CEST
DTSTART:20250330T010000
END:DAYLIGHT
BEGIN:STANDARD
TZOFFSETFROM:+0200
TZOFFSETTO:+0100
TZNAME:CET
DTSTART:20251026T010000
END:STANDARD
END:VTIMEZONE
BEGIN:VEVENT
DTSTART;TZID="Europe/Warsaw":20251113T080000
DTEND;TZID="Europe/Warsaw":20251113T143000
DTSTAMP:20260424T115124
CREATED:20251017T144816Z
LAST-MODIFIED:20251017T144816Z
UID:12793-1763020800-1763044200@rubinvet.pl
SUMMARY:8.00 - 14.30 lek. wet. Gabriela Winiarska
DESCRIPTION:
URL:https://rubinvet.pl/dyzur/8-00-14-30-lek-wet-gabriela-winiarska-73/
END:VEVENT
BEGIN:VEVENT
DTSTART;TZID="Europe/Warsaw":20251113T080000
DTEND;TZID="Europe/Warsaw":20251113T120000
DTSTAMP:20260424T115124
CREATED:20251107T154147Z
LAST-MODIFIED:20251107T154147Z
UID:12964-1763020800-1763035200@rubinvet.pl
SUMMARY:8.00 - 12.00 lek. wet. Adrianna Raboszuk zapisy
DESCRIPTION:
URL:https://rubinvet.pl/dyzur/8-00-12-00-lek-wet-adrianna-raboszuk-zapisy/
END:VEVENT
BEGIN:VEVENT
DTSTART;TZID="Europe/Warsaw":20251113T120000
DTEND;TZID="Europe/Warsaw":20251113T183000
DTSTAMP:20260424T115124
CREATED:20251017T144849Z
LAST-MODIFIED:20251107T154250Z
UID:12795-1763035200-1763058600@rubinvet.pl
SUMMARY:12.00 - 18.30 lek. wet. Marta Barczak
DESCRIPTION:
URL:https://rubinvet.pl/dyzur/8-00-14-30-lek-wet-marta-barczak-16/
END:VEVENT
BEGIN:VEVENT
DTSTART;TZID="Europe/Warsaw":20251113T143000
DTEND;TZID="Europe/Warsaw":20251113T210000
DTSTAMP:20260424T115124
CREATED:20251017T145045Z
LAST-MODIFIED:20251017T145045Z
UID:12797-1763044200-1763067600@rubinvet.pl
SUMMARY:14.30 - 21.00 lek. wet. Rafał Kaczor zapisy
DESCRIPTION:
URL:https://rubinvet.pl/dyzur/14-30-21-00-lek-wet-rafal-kaczor-zapisy-63/
END:VEVENT
BEGIN:VEVENT
DTSTART;TZID="Europe/Warsaw":20251113T143000
DTEND;TZID="Europe/Warsaw":20251113T210000
DTSTAMP:20260424T115124
CREATED:20251017T145110Z
LAST-MODIFIED:20251017T145110Z
UID:12799-1763044200-1763067600@rubinvet.pl
SUMMARY:14.30 - 21.00 lek. wet. Zofia Maksimowicz-Malik
DESCRIPTION:
URL:https://rubinvet.pl/dyzur/14-30-21-00-lek-wet-zofia-maksimowicz-malik-76/
END:VEVENT
END:VCALENDAR