BEGIN:VCALENDAR
VERSION:2.0
PRODID:-//Gabinet Weterynaryjny RubinVet | Piaseczno, Józefosław - ECPv4.9.8//NONSGML v1.0//EN
CALSCALE:GREGORIAN
METHOD:PUBLISH
X-WR-CALNAME:Gabinet Weterynaryjny RubinVet | Piaseczno, Józefosław
X-ORIGINAL-URL:https://rubinvet.pl
X-WR-CALDESC:Dyżury: Gabinet Weterynaryjny RubinVet | Piaseczno, Józefosław
BEGIN:VTIMEZONE
TZID:Europe/Warsaw
BEGIN:DAYLIGHT
TZOFFSETFROM:+0100
TZOFFSETTO:+0200
TZNAME:CEST
DTSTART:20250330T010000
END:DAYLIGHT
BEGIN:STANDARD
TZOFFSETFROM:+0200
TZOFFSETTO:+0100
TZNAME:CET
DTSTART:20251026T010000
END:STANDARD
END:VTIMEZONE
BEGIN:VEVENT
DTSTART;TZID="Europe/Warsaw":20251119T080000
DTEND;TZID="Europe/Warsaw":20251119T143000
DTSTAMP:20260424T041111
CREATED:20251017T153137Z
LAST-MODIFIED:20251017T153137Z
UID:12871-1763539200-1763562600@rubinvet.pl
SUMMARY:8.00 - 14.30 lek. wet. Adrianna Raboszuk zapisy
DESCRIPTION:
URL:https://rubinvet.pl/dyzur/8-00-14-30-lek-wet-adrianna-raboszuk-zapisy-29/
END:VEVENT
BEGIN:VEVENT
DTSTART;TZID="Europe/Warsaw":20251119T080000
DTEND;TZID="Europe/Warsaw":20251119T143000
DTSTAMP:20260424T041111
CREATED:20251017T153427Z
LAST-MODIFIED:20251017T153427Z
UID:12875-1763539200-1763562600@rubinvet.pl
SUMMARY:8.00 - 14.30 lek. wet. Zofia Maksimowicz-Malik
DESCRIPTION:
URL:https://rubinvet.pl/dyzur/8-00-14-30-lek-wet-zofia-maksimowicz-malik-82/
END:VEVENT
BEGIN:VEVENT
DTSTART;TZID="Europe/Warsaw":20251119T080000
DTEND;TZID="Europe/Warsaw":20251119T143000
DTSTAMP:20260424T041111
CREATED:20251017T155205Z
LAST-MODIFIED:20251117T150617Z
UID:12883-1763539200-1763562600@rubinvet.pl
SUMMARY:8.00 - 14.30 lek. wet. Gabriela Winiarska
DESCRIPTION:
URL:https://rubinvet.pl/dyzur/14-30-21-00-lek-wet-gabriela-winiarska-100/
END:VEVENT
BEGIN:VEVENT
DTSTART;TZID="Europe/Warsaw":20251119T140000
DTEND;TZID="Europe/Warsaw":20251119T210000
DTSTAMP:20260424T041111
CREATED:20251017T155508Z
LAST-MODIFIED:20251117T150642Z
UID:12891-1763560800-1763586000@rubinvet.pl
SUMMARY:14.00 - 21.00 tech. wet. Dominika Michalak
DESCRIPTION:
URL:https://rubinvet.pl/dyzur/8-00-15-00-tech-wet-dominika-michalak-265/
END:VEVENT
BEGIN:VEVENT
DTSTART;TZID="Europe/Warsaw":20251119T143000
DTEND;TZID="Europe/Warsaw":20251119T210000
DTSTAMP:20260424T041111
CREATED:20251017T153510Z
LAST-MODIFIED:20251017T153510Z
UID:12879-1763562600-1763586000@rubinvet.pl
SUMMARY:14.30 - 21.00 lek. wet. Rafał Kaczor zapisy
DESCRIPTION:
URL:https://rubinvet.pl/dyzur/14-30-21-00-lek-wet-rafal-kaczor-zapisy-65/
END:VEVENT
BEGIN:VEVENT
DTSTART;TZID="Europe/Warsaw":20251119T143000
DTEND;TZID="Europe/Warsaw":20251119T210000
DTSTAMP:20260424T041111
CREATED:20251017T155426Z
LAST-MODIFIED:20251017T155426Z
UID:12887-1763562600-1763586000@rubinvet.pl
SUMMARY:14.30 - 21.00 lek. wet. Marta Barczak
DESCRIPTION:
URL:https://rubinvet.pl/dyzur/14-30-21-00-lek-wet-marta-barczak-20/
END:VEVENT
END:VCALENDAR