BEGIN:VCALENDAR
VERSION:2.0
PRODID:-//Gabinet Weterynaryjny RubinVet | Piaseczno, Józefosław - ECPv4.9.8//NONSGML v1.0//EN
CALSCALE:GREGORIAN
METHOD:PUBLISH
X-WR-CALNAME:Gabinet Weterynaryjny RubinVet | Piaseczno, Józefosław
X-ORIGINAL-URL:https://rubinvet.pl
X-WR-CALDESC:Dyżury: Gabinet Weterynaryjny RubinVet | Piaseczno, Józefosław
BEGIN:VTIMEZONE
TZID:Europe/Warsaw
BEGIN:DAYLIGHT
TZOFFSETFROM:+0100
TZOFFSETTO:+0200
TZNAME:CEST
DTSTART:20250330T010000
END:DAYLIGHT
BEGIN:STANDARD
TZOFFSETFROM:+0200
TZOFFSETTO:+0100
TZNAME:CET
DTSTART:20251026T010000
END:STANDARD
END:VTIMEZONE
BEGIN:VEVENT
DTSTART;TZID="Europe/Warsaw":20251124T080000
DTEND;TZID="Europe/Warsaw":20251124T143000
DTSTAMP:20260423T220422
CREATED:20251017T145822Z
LAST-MODIFIED:20251017T145822Z
UID:12825-1763971200-1763994600@rubinvet.pl
SUMMARY:8.00 - 14.30 lek. wet. Adrianna Raboszuk zapisy
DESCRIPTION:
URL:https://rubinvet.pl/dyzur/8-00-14-30-lek-wet-adrianna-raboszuk-zapisy-28/
END:VEVENT
BEGIN:VEVENT
DTSTART;TZID="Europe/Warsaw":20251124T080000
DTEND;TZID="Europe/Warsaw":20251124T143000
DTSTAMP:20260423T220422
CREATED:20251017T145900Z
LAST-MODIFIED:20251017T145900Z
UID:12829-1763971200-1763994600@rubinvet.pl
SUMMARY:8.00 - 14.30 lek. wet. Gabriela Winiarska
DESCRIPTION:
URL:https://rubinvet.pl/dyzur/8-00-14-30-lek-wet-gabriela-winiarska-76/
END:VEVENT
BEGIN:VEVENT
DTSTART;TZID="Europe/Warsaw":20251124T140000
DTEND;TZID="Europe/Warsaw":20251124T210000
DTSTAMP:20260423T220422
CREATED:20251017T145943Z
LAST-MODIFIED:20251121T075303Z
UID:12834-1763992800-1764018000@rubinvet.pl
SUMMARY:14.00 - 21.00 tech. wet. Dominika Michalak
DESCRIPTION:
URL:https://rubinvet.pl/dyzur/8-00-15-00-tech-wet-dominika-michalak-235-2/
END:VEVENT
BEGIN:VEVENT
DTSTART;TZID="Europe/Warsaw":20251124T143000
DTEND;TZID="Europe/Warsaw":20251124T210000
DTSTAMP:20260423T220422
CREATED:20251017T150028Z
LAST-MODIFIED:20251017T150028Z
UID:12838-1763994600-1764018000@rubinvet.pl
SUMMARY:14.30 - 21.00 lek. wet. Zofia Maksimowicz-Malik
DESCRIPTION:
URL:https://rubinvet.pl/dyzur/14-30-21-00-lek-wet-zofia-maksimowicz-malik-78/
END:VEVENT
BEGIN:VEVENT
DTSTART;TZID="Europe/Warsaw":20251124T143000
DTEND;TZID="Europe/Warsaw":20251124T210000
DTSTAMP:20260423T220422
CREATED:20251017T150111Z
LAST-MODIFIED:20251017T150111Z
UID:12842-1763994600-1764018000@rubinvet.pl
SUMMARY:14.30 - 21.00 lek. wet. Marta Barczak
DESCRIPTION:
URL:https://rubinvet.pl/dyzur/14-30-21-00-lek-wet-marta-barczak-17/
END:VEVENT
END:VCALENDAR