BEGIN:VCALENDAR
VERSION:2.0
PRODID:-//Gabinet Weterynaryjny RubinVet | Piaseczno, Józefosław - ECPv4.9.8//NONSGML v1.0//EN
CALSCALE:GREGORIAN
METHOD:PUBLISH
X-WR-CALNAME:Gabinet Weterynaryjny RubinVet | Piaseczno, Józefosław
X-ORIGINAL-URL:https://rubinvet.pl
X-WR-CALDESC:Dyżury: Gabinet Weterynaryjny RubinVet | Piaseczno, Józefosław
BEGIN:VTIMEZONE
TZID:Europe/Warsaw
BEGIN:DAYLIGHT
TZOFFSETFROM:+0100
TZOFFSETTO:+0200
TZNAME:CEST
DTSTART:20250330T010000
END:DAYLIGHT
BEGIN:STANDARD
TZOFFSETFROM:+0200
TZOFFSETTO:+0100
TZNAME:CET
DTSTART:20251026T010000
END:STANDARD
END:VTIMEZONE
BEGIN:VEVENT
DTSTART;TZID="Europe/Warsaw":20251127T080000
DTEND;TZID="Europe/Warsaw":20251127T143000
DTSTAMP:20260423T183449
CREATED:20251017T155700Z
LAST-MODIFIED:20251017T155700Z
UID:12897-1764230400-1764253800@rubinvet.pl
SUMMARY:8.00 - 14.30 lek. wet. Gabriela Winiarska
DESCRIPTION:
URL:https://rubinvet.pl/dyzur/8-00-14-30-lek-wet-gabriela-winiarska-78/
END:VEVENT
BEGIN:VEVENT
DTSTART;TZID="Europe/Warsaw":20251127T080000
DTEND;TZID="Europe/Warsaw":20251127T143000
DTSTAMP:20260423T183450
CREATED:20251017T155816Z
LAST-MODIFIED:20251017T155816Z
UID:12901-1764230400-1764253800@rubinvet.pl
SUMMARY:8.00 - 14.30 lek. wet. Marta Barczak
DESCRIPTION:
URL:https://rubinvet.pl/dyzur/8-00-14-30-lek-wet-marta-barczak-18/
END:VEVENT
BEGIN:VEVENT
DTSTART;TZID="Europe/Warsaw":20251127T080000
DTEND;TZID="Europe/Warsaw":20251127T150000
DTSTAMP:20260423T183450
CREATED:20251017T155922Z
LAST-MODIFIED:20251017T155922Z
UID:12905-1764230400-1764255600@rubinvet.pl
SUMMARY:8.00 - 15.00 tech. wet. Dominika Michalak
DESCRIPTION:
URL:https://rubinvet.pl/dyzur/8-00-15-00-tech-wet-dominika-michalak-268/
END:VEVENT
BEGIN:VEVENT
DTSTART;TZID="Europe/Warsaw":20251127T140300
DTEND;TZID="Europe/Warsaw":20251127T210000
DTSTAMP:20260423T183450
CREATED:20251017T160840Z
LAST-MODIFIED:20251017T160840Z
UID:12914-1764252180-1764277200@rubinvet.pl
SUMMARY:14.30 - 21.00 lek. wet. Zofia Maksimowicz-Malik
DESCRIPTION:
URL:https://rubinvet.pl/dyzur/14-30-21-00-lek-wet-zofia-maksimowicz-malik-80/
END:VEVENT
BEGIN:VEVENT
DTSTART;TZID="Europe/Warsaw":20251127T143000
DTEND;TZID="Europe/Warsaw":20251127T210000
DTSTAMP:20260423T183450
CREATED:20251017T160029Z
LAST-MODIFIED:20251017T160029Z
UID:12910-1764253800-1764277200@rubinvet.pl
SUMMARY:14.30 - 21.00 lek. wet. Rafał Kaczor zapisy
DESCRIPTION:
URL:https://rubinvet.pl/dyzur/14-30-21-00-lek-wet-rafal-kaczor-zapisy-67/
END:VEVENT
END:VCALENDAR