BEGIN:VCALENDAR
VERSION:2.0
PRODID:-//Gabinet Weterynaryjny RubinVet | Piaseczno, Józefosław - ECPv4.9.8//NONSGML v1.0//EN
CALSCALE:GREGORIAN
METHOD:PUBLISH
X-WR-CALNAME:Gabinet Weterynaryjny RubinVet | Piaseczno, Józefosław
X-ORIGINAL-URL:https://rubinvet.pl
X-WR-CALDESC:Dyżury: Gabinet Weterynaryjny RubinVet | Piaseczno, Józefosław
BEGIN:VTIMEZONE
TZID:Europe/Warsaw
BEGIN:DAYLIGHT
TZOFFSETFROM:+0100
TZOFFSETTO:+0200
TZNAME:CEST
DTSTART:20250330T010000
END:DAYLIGHT
BEGIN:STANDARD
TZOFFSETFROM:+0200
TZOFFSETTO:+0100
TZNAME:CET
DTSTART:20251026T010000
END:STANDARD
END:VTIMEZONE
BEGIN:VEVENT
DTSTART;TZID="Europe/Warsaw":20251204T080000
DTEND;TZID="Europe/Warsaw":20251204T143000
DTSTAMP:20260423T183514
CREATED:20251121T094506Z
LAST-MODIFIED:20251121T094506Z
UID:13006-1764835200-1764858600@rubinvet.pl
SUMMARY:8.00 - 14.30 lek. wet. Gabriela Winiarska
DESCRIPTION:
URL:https://rubinvet.pl/dyzur/8-00-14-30-lek-wet-gabriela-winiarska-81/
END:VEVENT
BEGIN:VEVENT
DTSTART;TZID="Europe/Warsaw":20251204T080000
DTEND;TZID="Europe/Warsaw":20251204T143000
DTSTAMP:20260423T183514
CREATED:20251121T094614Z
LAST-MODIFIED:20251121T094614Z
UID:13008-1764835200-1764858600@rubinvet.pl
SUMMARY:8.00 - 14.30 lek. wet. Marta Barczak
DESCRIPTION:
URL:https://rubinvet.pl/dyzur/8-00-14-30-lek-wet-marta-barczak-20/
END:VEVENT
BEGIN:VEVENT
DTSTART;TZID="Europe/Warsaw":20251204T140000
DTEND;TZID="Europe/Warsaw":20251204T210000
DTSTAMP:20260423T183514
CREATED:20251121T094706Z
LAST-MODIFIED:20251128T155119Z
UID:13010-1764856800-1764882000@rubinvet.pl
SUMMARY:14.00 - 21.00 tech. wet. Dominika Michalak
DESCRIPTION:
URL:https://rubinvet.pl/dyzur/12-00-19-00-tech-wet-dominika-michalak/
END:VEVENT
BEGIN:VEVENT
DTSTART;TZID="Europe/Warsaw":20251204T143000
DTEND;TZID="Europe/Warsaw":20251204T210000
DTSTAMP:20260423T183514
CREATED:20251121T094733Z
LAST-MODIFIED:20251121T094733Z
UID:13012-1764858600-1764882000@rubinvet.pl
SUMMARY:14.30 - 21.00 lek. wet. Zofia Maksimowicz-Malik
DESCRIPTION:
URL:https://rubinvet.pl/dyzur/14-30-21-00-lek-wet-zofia-maksimowicz-malik-82/
END:VEVENT
BEGIN:VEVENT
DTSTART;TZID="Europe/Warsaw":20251204T143000
DTEND;TZID="Europe/Warsaw":20251204T210000
DTSTAMP:20260423T183514
CREATED:20251121T094754Z
LAST-MODIFIED:20251121T094754Z
UID:13014-1764858600-1764882000@rubinvet.pl
SUMMARY:14.30 - 21.00 lek. wet. Rafał Kaczor zapisy
DESCRIPTION:
URL:https://rubinvet.pl/dyzur/14-30-21-00-lek-wet-rafal-kaczor-zapisy-70/
END:VEVENT
END:VCALENDAR