BEGIN:VCALENDAR
VERSION:2.0
PRODID:-//Gabinet Weterynaryjny RubinVet | Piaseczno, Józefosław - ECPv4.9.8//NONSGML v1.0//EN
CALSCALE:GREGORIAN
METHOD:PUBLISH
X-WR-CALNAME:Gabinet Weterynaryjny RubinVet | Piaseczno, Józefosław
X-ORIGINAL-URL:https://rubinvet.pl
X-WR-CALDESC:Dyżury: Gabinet Weterynaryjny RubinVet | Piaseczno, Józefosław
BEGIN:VTIMEZONE
TZID:Europe/Warsaw
BEGIN:DAYLIGHT
TZOFFSETFROM:+0100
TZOFFSETTO:+0200
TZNAME:CEST
DTSTART:20250330T010000
END:DAYLIGHT
BEGIN:STANDARD
TZOFFSETFROM:+0200
TZOFFSETTO:+0100
TZNAME:CET
DTSTART:20251026T010000
END:STANDARD
END:VTIMEZONE
BEGIN:VEVENT
DTSTART;TZID="Europe/Warsaw":20251205T080000
DTEND;TZID="Europe/Warsaw":20251205T143000
DTSTAMP:20260423T171609
CREATED:20251121T095200Z
LAST-MODIFIED:20251121T095200Z
UID:13016-1764921600-1764945000@rubinvet.pl
SUMMARY:8.00 - 14.30 lek. wet. Zofia Maksimowicz-Malik zapisy
DESCRIPTION:
URL:https://rubinvet.pl/dyzur/8-00-14-30-lek-wet-zofia-maksimowicz-malik-zapisy-22/
END:VEVENT
BEGIN:VEVENT
DTSTART;TZID="Europe/Warsaw":20251205T080000
DTEND;TZID="Europe/Warsaw":20251205T143000
DTSTAMP:20260423T171609
CREATED:20251121T095428Z
LAST-MODIFIED:20251202T084416Z
UID:13022-1764921600-1764945000@rubinvet.pl
SUMMARY:8.00 - 14.30 lek. wet. Rafał Kaczor
DESCRIPTION:
URL:https://rubinvet.pl/dyzur/14-30-21-00-lek-wet-rafal-kaczor-zapisy-71/
END:VEVENT
BEGIN:VEVENT
DTSTART;TZID="Europe/Warsaw":20251205T080000
DTEND;TZID="Europe/Warsaw":20251205T143000
DTSTAMP:20260423T171609
CREATED:20251121T095523Z
LAST-MODIFIED:20251201T205000Z
UID:13026-1764921600-1764945000@rubinvet.pl
SUMMARY:8.00 - 14.30 lek. wet. Marta Barczak
DESCRIPTION:
URL:https://rubinvet.pl/dyzur/14-30-21-00-lek-wet-marta-barczak-26/
END:VEVENT
BEGIN:VEVENT
DTSTART;TZID="Europe/Warsaw":20251205T143000
DTEND;TZID="Europe/Warsaw":20251205T210000
DTSTAMP:20260423T171609
CREATED:20251121T095240Z
LAST-MODIFIED:20251202T084603Z
UID:13018-1764945000-1764968400@rubinvet.pl
SUMMARY:14.30 - 21.00 lek. wet. Gabriela Winiarska zapisy
DESCRIPTION:
URL:https://rubinvet.pl/dyzur/8-00-14-30-lek-wet-gabriela-winiarska-82/
END:VEVENT
BEGIN:VEVENT
DTSTART;TZID="Europe/Warsaw":20251205T143000
DTEND;TZID="Europe/Warsaw":20251205T210000
DTSTAMP:20260423T171609
CREATED:20251121T095457Z
LAST-MODIFIED:20251121T095457Z
UID:13024-1764945000-1764968400@rubinvet.pl
SUMMARY:14.30 - 21.00 lek. wet. Adrianna Raboszuk
DESCRIPTION:
URL:https://rubinvet.pl/dyzur/14-30-21-00-lek-wet-adrianna-raboszuk-26/
END:VEVENT
END:VCALENDAR