BEGIN:VCALENDAR
VERSION:2.0
PRODID:-//Gabinet Weterynaryjny RubinVet | Piaseczno, Józefosław - ECPv4.9.8//NONSGML v1.0//EN
CALSCALE:GREGORIAN
METHOD:PUBLISH
X-WR-CALNAME:Gabinet Weterynaryjny RubinVet | Piaseczno, Józefosław
X-ORIGINAL-URL:https://rubinvet.pl
X-WR-CALDESC:Dyżury: Gabinet Weterynaryjny RubinVet | Piaseczno, Józefosław
BEGIN:VTIMEZONE
TZID:Europe/Warsaw
BEGIN:DAYLIGHT
TZOFFSETFROM:+0100
TZOFFSETTO:+0200
TZNAME:CEST
DTSTART:20250330T010000
END:DAYLIGHT
BEGIN:STANDARD
TZOFFSETFROM:+0200
TZOFFSETTO:+0100
TZNAME:CET
DTSTART:20251026T010000
END:STANDARD
END:VTIMEZONE
BEGIN:VEVENT
DTSTART;TZID="Europe/Warsaw":20251213T090000
DTEND;TZID="Europe/Warsaw":20251213T150000
DTSTAMP:20260423T143945
CREATED:20251126T093904Z
LAST-MODIFIED:20251126T093904Z
UID:13094-1765616400-1765638000@rubinvet.pl
SUMMARY:9.00 - 15.00 lek. wet. Zofia Maksimowicz-Malik
DESCRIPTION:
URL:https://rubinvet.pl/dyzur/9-00-15-00-lek-wet-zofia-maksimowicz-malik-12/
END:VEVENT
BEGIN:VEVENT
DTSTART;TZID="Europe/Warsaw":20251213T090000
DTEND;TZID="Europe/Warsaw":20251213T150000
DTSTAMP:20260423T143945
CREATED:20251126T093932Z
LAST-MODIFIED:20251126T093932Z
UID:13096-1765616400-1765638000@rubinvet.pl
SUMMARY:9.00 - 15.00 tech. wet. Dominika Michalak
DESCRIPTION:
URL:https://rubinvet.pl/dyzur/9-00-15-00-tech-wet-dominika-michalak-51/
END:VEVENT
END:VCALENDAR