BEGIN:VCALENDAR
VERSION:2.0
PRODID:-//Gabinet Weterynaryjny RubinVet | Piaseczno, Józefosław - ECPv4.9.8//NONSGML v1.0//EN
CALSCALE:GREGORIAN
METHOD:PUBLISH
X-WR-CALNAME:Gabinet Weterynaryjny RubinVet | Piaseczno, Józefosław
X-ORIGINAL-URL:https://rubinvet.pl
X-WR-CALDESC:Dyżury: Gabinet Weterynaryjny RubinVet | Piaseczno, Józefosław
BEGIN:VTIMEZONE
TZID:Europe/Warsaw
BEGIN:DAYLIGHT
TZOFFSETFROM:+0100
TZOFFSETTO:+0200
TZNAME:CEST
DTSTART:20250330T010000
END:DAYLIGHT
BEGIN:STANDARD
TZOFFSETFROM:+0200
TZOFFSETTO:+0100
TZNAME:CET
DTSTART:20251026T010000
END:STANDARD
END:VTIMEZONE
BEGIN:VEVENT
DTSTART;TZID="Europe/Warsaw":20251215T080000
DTEND;TZID="Europe/Warsaw":20251215T143000
DTSTAMP:20260423T171203
CREATED:20251126T094111Z
LAST-MODIFIED:20251126T094111Z
UID:13102-1765785600-1765809000@rubinvet.pl
SUMMARY:8.00 - 14.30 lek. wet. Adrianna Raboszuk zapisy
DESCRIPTION:
URL:https://rubinvet.pl/dyzur/8-00-14-30-lek-wet-adrianna-raboszuk-zapisy-34/
END:VEVENT
BEGIN:VEVENT
DTSTART;TZID="Europe/Warsaw":20251215T080000
DTEND;TZID="Europe/Warsaw":20251215T143000
DTSTAMP:20260423T171203
CREATED:20251126T094159Z
LAST-MODIFIED:20251126T094159Z
UID:13104-1765785600-1765809000@rubinvet.pl
SUMMARY:8.00 - 14.30 lek. wet. Gabriela Winiarska
DESCRIPTION:
URL:https://rubinvet.pl/dyzur/8-00-14-30-lek-wet-gabriela-winiarska-86/
END:VEVENT
BEGIN:VEVENT
DTSTART;TZID="Europe/Warsaw":20251215T140000
DTEND;TZID="Europe/Warsaw":20251215T210000
DTSTAMP:20260423T171203
CREATED:20251126T094248Z
LAST-MODIFIED:20251126T094248Z
UID:13108-1765807200-1765832400@rubinvet.pl
SUMMARY:14.00 - 21.00 tech. wet. Dominika Michalak
DESCRIPTION:
URL:https://rubinvet.pl/dyzur/14-00-21-00-tech-wet-dominika-michalak-242/
END:VEVENT
BEGIN:VEVENT
DTSTART;TZID="Europe/Warsaw":20251215T143000
DTEND;TZID="Europe/Warsaw":20251215T210000
DTSTAMP:20260423T171203
CREATED:20251126T094223Z
LAST-MODIFIED:20251126T094223Z
UID:13106-1765809000-1765832400@rubinvet.pl
SUMMARY:14.30 - 21.00 lek. wet. Zofia Maksimowicz-Malik
DESCRIPTION:
URL:https://rubinvet.pl/dyzur/14-30-21-00-lek-wet-zofia-maksimowicz-malik-85/
END:VEVENT
BEGIN:VEVENT
DTSTART;TZID="Europe/Warsaw":20251215T143000
DTEND;TZID="Europe/Warsaw":20251215T210000
DTSTAMP:20260423T171203
CREATED:20251126T094314Z
LAST-MODIFIED:20251126T094314Z
UID:13110-1765809000-1765832400@rubinvet.pl
SUMMARY:14.30 - 21.00 lek. wet. Marta Barczak
DESCRIPTION:
URL:https://rubinvet.pl/dyzur/14-30-21-00-lek-wet-marta-barczak-30/
END:VEVENT
END:VCALENDAR