BEGIN:VCALENDAR
VERSION:2.0
PRODID:-//Gabinet Weterynaryjny RubinVet | Piaseczno, Józefosław - ECPv4.9.8//NONSGML v1.0//EN
CALSCALE:GREGORIAN
METHOD:PUBLISH
X-WR-CALNAME:Gabinet Weterynaryjny RubinVet | Piaseczno, Józefosław
X-ORIGINAL-URL:https://rubinvet.pl
X-WR-CALDESC:Dyżury: Gabinet Weterynaryjny RubinVet | Piaseczno, Józefosław
BEGIN:VTIMEZONE
TZID:Europe/Warsaw
BEGIN:DAYLIGHT
TZOFFSETFROM:+0100
TZOFFSETTO:+0200
TZNAME:CEST
DTSTART:20260329T010000
END:DAYLIGHT
BEGIN:STANDARD
TZOFFSETFROM:+0200
TZOFFSETTO:+0100
TZNAME:CET
DTSTART:20261025T010000
END:STANDARD
END:VTIMEZONE
BEGIN:VEVENT
DTSTART;TZID="Europe/Warsaw":20260114T080000
DTEND;TZID="Europe/Warsaw":20260114T143000
DTSTAMP:20260423T105829
CREATED:20251229T144455Z
LAST-MODIFIED:20251229T144455Z
UID:13408-1768377600-1768401000@rubinvet.pl
SUMMARY:8.00 - 14.30 lek. wet. Zofia Maksimowicz-Malik
DESCRIPTION:
URL:https://rubinvet.pl/dyzur/8-00-14-30-lek-wet-zofia-maksimowicz-malik-88/
END:VEVENT
BEGIN:VEVENT
DTSTART;TZID="Europe/Warsaw":20260114T080000
DTEND;TZID="Europe/Warsaw":20260114T143000
DTSTAMP:20260423T105829
CREATED:20251229T144554Z
LAST-MODIFIED:20251229T144554Z
UID:13414-1768377600-1768401000@rubinvet.pl
SUMMARY:8.00 - 14.30 lek. wet. Adrianna Raboszuk zapisy
DESCRIPTION:
URL:https://rubinvet.pl/dyzur/8-00-14-30-lek-wet-adrianna-raboszuk-zapisy-42/
END:VEVENT
BEGIN:VEVENT
DTSTART;TZID="Europe/Warsaw":20260114T080000
DTEND;TZID="Europe/Warsaw":20260114T150000
DTSTAMP:20260423T105829
CREATED:20251229T150924Z
LAST-MODIFIED:20251229T150924Z
UID:13420-1768377600-1768402800@rubinvet.pl
SUMMARY:8.00 - 15.00 tech. wet. Dominika Michalak
DESCRIPTION:
URL:https://rubinvet.pl/dyzur/8-00-15-00-tech-wet-dominika-michalak-279/
END:VEVENT
BEGIN:VEVENT
DTSTART;TZID="Europe/Warsaw":20260114T143000
DTEND;TZID="Europe/Warsaw":20260114T210000
DTSTAMP:20260423T105829
CREATED:20251229T151126Z
LAST-MODIFIED:20251229T151126Z
UID:13426-1768401000-1768424400@rubinvet.pl
SUMMARY:14.30 - 21.00 lek. wet. Rafał Kaczor
DESCRIPTION:
URL:https://rubinvet.pl/dyzur/14-30-21-00-lek-wet-rafal-kaczor-480/
END:VEVENT
BEGIN:VEVENT
DTSTART;TZID="Europe/Warsaw":20260114T143000
DTEND;TZID="Europe/Warsaw":20260114T210000
DTSTAMP:20260423T105829
CREATED:20251229T151257Z
LAST-MODIFIED:20251229T151257Z
UID:13430-1768401000-1768424400@rubinvet.pl
SUMMARY:14.30 - 21.00 lek. wet. Gabriela Winiarska zapisy
DESCRIPTION:
URL:https://rubinvet.pl/dyzur/14-30-21-00-lek-wet-gabriela-winiarska-zapisy-2/
END:VEVENT
BEGIN:VEVENT
DTSTART;TZID="Europe/Warsaw":20260114T143000
DTEND;TZID="Europe/Warsaw":20260114T210000
DTSTAMP:20260423T105829
CREATED:20251229T182419Z
LAST-MODIFIED:20251229T182419Z
UID:13514-1768401000-1768424400@rubinvet.pl
SUMMARY:14.30 - 21.00 lek. wet. Marta Barczak
DESCRIPTION:
URL:https://rubinvet.pl/dyzur/14-30-21-00-lek-wet-marta-barczak-47/
END:VEVENT
END:VCALENDAR