BEGIN:VCALENDAR
VERSION:2.0
PRODID:-//Gabinet Weterynaryjny RubinVet | Piaseczno, Józefosław - ECPv4.9.8//NONSGML v1.0//EN
CALSCALE:GREGORIAN
METHOD:PUBLISH
X-WR-CALNAME:Gabinet Weterynaryjny RubinVet | Piaseczno, Józefosław
X-ORIGINAL-URL:https://rubinvet.pl
X-WR-CALDESC:Dyżury: Gabinet Weterynaryjny RubinVet | Piaseczno, Józefosław
BEGIN:VTIMEZONE
TZID:Europe/Warsaw
BEGIN:DAYLIGHT
TZOFFSETFROM:+0100
TZOFFSETTO:+0200
TZNAME:CEST
DTSTART:20260329T010000
END:DAYLIGHT
BEGIN:STANDARD
TZOFFSETFROM:+0200
TZOFFSETTO:+0100
TZNAME:CET
DTSTART:20261025T010000
END:STANDARD
END:VTIMEZONE
BEGIN:VEVENT
DTSTART;TZID="Europe/Warsaw":20260116T080000
DTEND;TZID="Europe/Warsaw":20260116T143000
DTSTAMP:20260423T105845
CREATED:20251229T163745Z
LAST-MODIFIED:20251229T163745Z
UID:13460-1768550400-1768573800@rubinvet.pl
SUMMARY:8.00 - 14.30 lek. wet. Rafał Kaczor zapisy
DESCRIPTION:
URL:https://rubinvet.pl/dyzur/8-00-14-30-lek-wet-rafal-kaczor-zapisy-76/
END:VEVENT
BEGIN:VEVENT
DTSTART;TZID="Europe/Warsaw":20260116T080000
DTEND;TZID="Europe/Warsaw":20260116T143000
DTSTAMP:20260423T105845
CREATED:20251229T163833Z
LAST-MODIFIED:20251229T163833Z
UID:13462-1768550400-1768573800@rubinvet.pl
SUMMARY:8.00 - 14.30 lek. wet. Marta Barczak
DESCRIPTION:
URL:https://rubinvet.pl/dyzur/8-00-14-30-lek-wet-marta-barczak-27/
END:VEVENT
BEGIN:VEVENT
DTSTART;TZID="Europe/Warsaw":20260116T080000
DTEND;TZID="Europe/Warsaw":20260116T150000
DTSTAMP:20260423T105845
CREATED:20251229T174911Z
LAST-MODIFIED:20251229T174911Z
UID:13464-1768550400-1768575600@rubinvet.pl
SUMMARY:8.00 - 15.00 tech. wet. Dominika Michalak
DESCRIPTION:
URL:https://rubinvet.pl/dyzur/8-00-15-00-tech-wet-dominika-michalak-282/
END:VEVENT
BEGIN:VEVENT
DTSTART;TZID="Europe/Warsaw":20260116T143000
DTEND;TZID="Europe/Warsaw":20260116T210000
DTSTAMP:20260423T105845
CREATED:20251229T174936Z
LAST-MODIFIED:20251229T174936Z
UID:13466-1768573800-1768597200@rubinvet.pl
SUMMARY:14.30 - 21.00 lek. wet. Zofia Maksimowicz-Malik zapisy
DESCRIPTION:
URL:https://rubinvet.pl/dyzur/14-30-21-00-lek-wet-zofia-maksimowicz-malik-zapisy-30/
END:VEVENT
BEGIN:VEVENT
DTSTART;TZID="Europe/Warsaw":20260116T143000
DTEND;TZID="Europe/Warsaw":20260116T210000
DTSTAMP:20260423T105845
CREATED:20251229T175013Z
LAST-MODIFIED:20251229T175013Z
UID:13468-1768573800-1768597200@rubinvet.pl
SUMMARY:14.30 - 21.00 lek. wet. Adrianna Raboszuk
DESCRIPTION:
URL:https://rubinvet.pl/dyzur/14-30-21-00-lek-wet-adrianna-raboszuk-30/
END:VEVENT
BEGIN:VEVENT
DTSTART;TZID="Europe/Warsaw":20260116T143000
DTEND;TZID="Europe/Warsaw":20260116T210000
DTSTAMP:20260423T105845
CREATED:20251229T175034Z
LAST-MODIFIED:20251229T175034Z
UID:13470-1768573800-1768597200@rubinvet.pl
SUMMARY:14.30 - 21.00 lek. wet. Gabriela Winiarska zapisy
DESCRIPTION:
URL:https://rubinvet.pl/dyzur/14-30-21-00-lek-wet-gabriela-winiarska-zapisy-5/
END:VEVENT
END:VCALENDAR