BEGIN:VCALENDAR
VERSION:2.0
PRODID:-//Gabinet Weterynaryjny RubinVet | Piaseczno, Józefosław - ECPv4.9.8//NONSGML v1.0//EN
CALSCALE:GREGORIAN
METHOD:PUBLISH
X-WR-CALNAME:Gabinet Weterynaryjny RubinVet | Piaseczno, Józefosław
X-ORIGINAL-URL:https://rubinvet.pl
X-WR-CALDESC:Dyżury: Gabinet Weterynaryjny RubinVet | Piaseczno, Józefosław
BEGIN:VTIMEZONE
TZID:Europe/Warsaw
BEGIN:DAYLIGHT
TZOFFSETFROM:+0100
TZOFFSETTO:+0200
TZNAME:CEST
DTSTART:20260329T010000
END:DAYLIGHT
BEGIN:STANDARD
TZOFFSETFROM:+0200
TZOFFSETTO:+0100
TZNAME:CET
DTSTART:20261025T010000
END:STANDARD
END:VTIMEZONE
BEGIN:VEVENT
DTSTART;TZID="Europe/Warsaw":20260120T080000
DTEND;TZID="Europe/Warsaw":20260120T143000
DTSTAMP:20260425T142822
CREATED:20251229T143639Z
LAST-MODIFIED:20251229T143639Z
UID:13369-1768896000-1768919400@rubinvet.pl
SUMMARY:8.00 - 14.30 lek. wet. Zofia Maksimowicz-Malik zapisy
DESCRIPTION:
URL:https://rubinvet.pl/dyzur/8-00-14-30-lek-wet-zofia-maksimowicz-malik-zapisy-29/
END:VEVENT
BEGIN:VEVENT
DTSTART;TZID="Europe/Warsaw":20260120T080000
DTEND;TZID="Europe/Warsaw":20260120T133000
DTSTAMP:20260425T142822
CREATED:20251229T143947Z
LAST-MODIFIED:20251229T143947Z
UID:13382-1768896000-1768915800@rubinvet.pl
SUMMARY:8.00 - 13.30 lek. wet. Adrianna Raboszuk
DESCRIPTION:
URL:https://rubinvet.pl/dyzur/8-00-13-30-lek-wet-adrianna-raboszuk-21/
END:VEVENT
BEGIN:VEVENT
DTSTART;TZID="Europe/Warsaw":20260120T080000
DTEND;TZID="Europe/Warsaw":20260120T150000
DTSTAMP:20260425T142822
CREATED:20251229T144049Z
LAST-MODIFIED:20260114T112621Z
UID:13388-1768896000-1768921200@rubinvet.pl
SUMMARY:8.00 - 15.00 tech. wet. Dominika Michalak
DESCRIPTION:
URL:https://rubinvet.pl/dyzur/14-00-21-00-tech-wet-dominika-michalak-253/
END:VEVENT
BEGIN:VEVENT
DTSTART;TZID="Europe/Warsaw":20260120T143000
DTEND;TZID="Europe/Warsaw":20260120T210000
DTSTAMP:20260425T142822
CREATED:20251229T144149Z
LAST-MODIFIED:20251229T144149Z
UID:13394-1768919400-1768942800@rubinvet.pl
SUMMARY:14.30 - 21.00 lek. wet. Gabriela Winiarska
DESCRIPTION:
URL:https://rubinvet.pl/dyzur/14-30-21-00-lek-wet-gabriela-winiarska-113/
END:VEVENT
BEGIN:VEVENT
DTSTART;TZID="Europe/Warsaw":20260120T143000
DTEND;TZID="Europe/Warsaw":20260120T210000
DTSTAMP:20260425T142822
CREATED:20251229T144311Z
LAST-MODIFIED:20251229T144311Z
UID:13400-1768919400-1768942800@rubinvet.pl
SUMMARY:14.30 - 21.00 lek. wet. Marta Barczak
DESCRIPTION:
URL:https://rubinvet.pl/dyzur/14-30-21-00-lek-wet-marta-barczak-41/
END:VEVENT
END:VCALENDAR