BEGIN:VCALENDAR
VERSION:2.0
PRODID:-//Gabinet Weterynaryjny RubinVet | Piaseczno, Józefosław - ECPv4.9.8//NONSGML v1.0//EN
CALSCALE:GREGORIAN
METHOD:PUBLISH
X-WR-CALNAME:Gabinet Weterynaryjny RubinVet | Piaseczno, Józefosław
X-ORIGINAL-URL:https://rubinvet.pl
X-WR-CALDESC:Dyżury: Gabinet Weterynaryjny RubinVet | Piaseczno, Józefosław
BEGIN:VTIMEZONE
TZID:Europe/Warsaw
BEGIN:DAYLIGHT
TZOFFSETFROM:+0100
TZOFFSETTO:+0200
TZNAME:CEST
DTSTART:20260329T010000
END:DAYLIGHT
BEGIN:STANDARD
TZOFFSETFROM:+0200
TZOFFSETTO:+0100
TZNAME:CET
DTSTART:20261025T010000
END:STANDARD
END:VTIMEZONE
BEGIN:VEVENT
DTSTART;TZID="Europe/Warsaw":20260121T080000
DTEND;TZID="Europe/Warsaw":20260121T130000
DTSTAMP:20260425T154952
CREATED:20251229T144505Z
LAST-MODIFIED:20260116T141432Z
UID:13410-1768982400-1769000400@rubinvet.pl
SUMMARY:8.00 - 14.30 lek. wet. Zofia Maksimowicz-Malik
DESCRIPTION:
URL:https://rubinvet.pl/dyzur/8-00-14-30-lek-wet-zofia-maksimowicz-malik-89/
END:VEVENT
BEGIN:VEVENT
DTSTART;TZID="Europe/Warsaw":20260121T080000
DTEND;TZID="Europe/Warsaw":20260121T143000
DTSTAMP:20260425T154952
CREATED:20251229T144607Z
LAST-MODIFIED:20251229T144607Z
UID:13416-1768982400-1769005800@rubinvet.pl
SUMMARY:8.00 - 14.30 lek. wet. Adrianna Raboszuk zapisy
DESCRIPTION:
URL:https://rubinvet.pl/dyzur/8-00-14-30-lek-wet-adrianna-raboszuk-zapisy-43/
END:VEVENT
BEGIN:VEVENT
DTSTART;TZID="Europe/Warsaw":20260121T080000
DTEND;TZID="Europe/Warsaw":20260121T150000
DTSTAMP:20260425T154952
CREATED:20251229T151031Z
LAST-MODIFIED:20251229T151031Z
UID:13422-1768982400-1769007600@rubinvet.pl
SUMMARY:8.00 - 15.00 tech. wet. Dominika Michalak
DESCRIPTION:
URL:https://rubinvet.pl/dyzur/8-00-15-00-tech-wet-dominika-michalak-280/
END:VEVENT
BEGIN:VEVENT
DTSTART;TZID="Europe/Warsaw":20260121T143000
DTEND;TZID="Europe/Warsaw":20260121T210000
DTSTAMP:20260425T154952
CREATED:20251229T151317Z
LAST-MODIFIED:20251229T151317Z
UID:13432-1769005800-1769029200@rubinvet.pl
SUMMARY:14.30 - 21.00 lek. wet. Gabriela Winiarska zapisy
DESCRIPTION:
URL:https://rubinvet.pl/dyzur/14-30-21-00-lek-wet-gabriela-winiarska-zapisy-3/
END:VEVENT
BEGIN:VEVENT
DTSTART;TZID="Europe/Warsaw":20260121T143000
DTEND;TZID="Europe/Warsaw":20260121T210000
DTSTAMP:20260425T154952
CREATED:20251229T182434Z
LAST-MODIFIED:20251229T182434Z
UID:13516-1769005800-1769029200@rubinvet.pl
SUMMARY:14.30 - 21.00 lek. wet. Marta Barczak
DESCRIPTION:
URL:https://rubinvet.pl/dyzur/14-30-21-00-lek-wet-marta-barczak-48/
END:VEVENT
END:VCALENDAR