BEGIN:VCALENDAR
VERSION:2.0
PRODID:-//Gabinet Weterynaryjny RubinVet | Piaseczno, Józefosław - ECPv4.9.8//NONSGML v1.0//EN
CALSCALE:GREGORIAN
METHOD:PUBLISH
X-WR-CALNAME:Gabinet Weterynaryjny RubinVet | Piaseczno, Józefosław
X-ORIGINAL-URL:https://rubinvet.pl
X-WR-CALDESC:Dyżury: Gabinet Weterynaryjny RubinVet | Piaseczno, Józefosław
BEGIN:VTIMEZONE
TZID:Europe/Warsaw
BEGIN:DAYLIGHT
TZOFFSETFROM:+0100
TZOFFSETTO:+0200
TZNAME:CEST
DTSTART:20260329T010000
END:DAYLIGHT
BEGIN:STANDARD
TZOFFSETFROM:+0200
TZOFFSETTO:+0100
TZNAME:CET
DTSTART:20261025T010000
END:STANDARD
END:VTIMEZONE
BEGIN:VEVENT
DTSTART;TZID="Europe/Warsaw":20260122T080000
DTEND;TZID="Europe/Warsaw":20260122T140300
DTSTAMP:20260425T142701
CREATED:20251229T151441Z
LAST-MODIFIED:20251229T151441Z
UID:13438-1769068800-1769090580@rubinvet.pl
SUMMARY:8.00 - 14.30 lek. wet. Gabriela Winiarska
DESCRIPTION:
URL:https://rubinvet.pl/dyzur/8-00-14-30-lek-wet-gabriela-winiarska-97/
END:VEVENT
BEGIN:VEVENT
DTSTART;TZID="Europe/Warsaw":20260122T080000
DTEND;TZID="Europe/Warsaw":20260122T150000
DTSTAMP:20260425T142701
CREATED:20251229T181440Z
LAST-MODIFIED:20251229T181440Z
UID:13480-1769068800-1769094000@rubinvet.pl
SUMMARY:8.00 - 15.00 tech. wet. Dominika Michalak
DESCRIPTION:
URL:https://rubinvet.pl/dyzur/8-00-15-00-tech-wet-dominika-michalak-283/
END:VEVENT
BEGIN:VEVENT
DTSTART;TZID="Europe/Warsaw":20260122T143000
DTEND;TZID="Europe/Warsaw":20260122T210000
DTSTAMP:20260425T142701
CREATED:20251229T151823Z
LAST-MODIFIED:20251229T151823Z
UID:13446-1769092200-1769115600@rubinvet.pl
SUMMARY:14.30 - 21.00 lek. wet. Marta Barczak
DESCRIPTION:
URL:https://rubinvet.pl/dyzur/14-30-21-00-lek-wet-marta-barczak-43/
END:VEVENT
BEGIN:VEVENT
DTSTART;TZID="Europe/Warsaw":20260122T143000
DTEND;TZID="Europe/Warsaw":20260122T210000
DTSTAMP:20260425T142701
CREATED:20251229T152604Z
LAST-MODIFIED:20251229T152604Z
UID:13456-1769092200-1769115600@rubinvet.pl
SUMMARY:14.30 - 21.00 lek. wet. Zofia Maksimowicz-Malik
DESCRIPTION:
URL:https://rubinvet.pl/dyzur/14-30-21-00-lek-wet-zofia-maksimowicz-malik-94/
END:VEVENT
END:VCALENDAR