BEGIN:VCALENDAR
VERSION:2.0
PRODID:-//Gabinet Weterynaryjny RubinVet | Piaseczno, Józefosław - ECPv4.9.8//NONSGML v1.0//EN
CALSCALE:GREGORIAN
METHOD:PUBLISH
X-WR-CALNAME:Gabinet Weterynaryjny RubinVet | Piaseczno, Józefosław
X-ORIGINAL-URL:https://rubinvet.pl
X-WR-CALDESC:Dyżury: Gabinet Weterynaryjny RubinVet | Piaseczno, Józefosław
BEGIN:VTIMEZONE
TZID:Europe/Warsaw
BEGIN:DAYLIGHT
TZOFFSETFROM:+0100
TZOFFSETTO:+0200
TZNAME:CEST
DTSTART:20260329T010000
END:DAYLIGHT
BEGIN:STANDARD
TZOFFSETFROM:+0200
TZOFFSETTO:+0100
TZNAME:CET
DTSTART:20261025T010000
END:STANDARD
END:VTIMEZONE
BEGIN:VEVENT
DTSTART;TZID="Europe/Warsaw":20260127T080000
DTEND;TZID="Europe/Warsaw":20260127T143000
DTSTAMP:20260423T095508
CREATED:20251229T143653Z
LAST-MODIFIED:20251229T143653Z
UID:13371-1769500800-1769524200@rubinvet.pl
SUMMARY:8.00 - 14.30 lek. wet. Zofia Maksimowicz-Malik zapisy
DESCRIPTION:
URL:https://rubinvet.pl/dyzur/8-00-14-30-lek-wet-zofia-maksimowicz-malik-zapisy-30/
END:VEVENT
BEGIN:VEVENT
DTSTART;TZID="Europe/Warsaw":20260127T080000
DTEND;TZID="Europe/Warsaw":20260127T133000
DTSTAMP:20260423T095508
CREATED:20251229T143959Z
LAST-MODIFIED:20251229T143959Z
UID:13384-1769500800-1769520600@rubinvet.pl
SUMMARY:8.00 - 13.30 lek. wet. Adrianna Raboszuk
DESCRIPTION:
URL:https://rubinvet.pl/dyzur/8-00-13-30-lek-wet-adrianna-raboszuk-22/
END:VEVENT
BEGIN:VEVENT
DTSTART;TZID="Europe/Warsaw":20260127T093000
DTEND;TZID="Europe/Warsaw":20260127T153000
DTSTAMP:20260423T095508
CREATED:20251229T143910Z
LAST-MODIFIED:20251229T143910Z
UID:13378-1769506200-1769527800@rubinvet.pl
SUMMARY:9.30 - 15.30 lek. wet. Rafał Kaczor zapisy
DESCRIPTION:
URL:https://rubinvet.pl/dyzur/9-30-15-30-lek-wet-rafal-kaczor-zapisy-13/
END:VEVENT
BEGIN:VEVENT
DTSTART;TZID="Europe/Warsaw":20260127T140000
DTEND;TZID="Europe/Warsaw":20260127T210000
DTSTAMP:20260423T095508
CREATED:20251229T144103Z
LAST-MODIFIED:20251229T144103Z
UID:13390-1769522400-1769547600@rubinvet.pl
SUMMARY:14.00 - 21.00 tech. wet. Dominika Michalak
DESCRIPTION:
URL:https://rubinvet.pl/dyzur/14-00-21-00-tech-wet-dominika-michalak-254/
END:VEVENT
BEGIN:VEVENT
DTSTART;TZID="Europe/Warsaw":20260127T143000
DTEND;TZID="Europe/Warsaw":20260127T210000
DTSTAMP:20260423T095508
CREATED:20251229T144206Z
LAST-MODIFIED:20251229T144206Z
UID:13396-1769524200-1769547600@rubinvet.pl
SUMMARY:14.30 - 21.00 lek. wet. Gabriela Winiarska
DESCRIPTION:
URL:https://rubinvet.pl/dyzur/14-30-21-00-lek-wet-gabriela-winiarska-114/
END:VEVENT
BEGIN:VEVENT
DTSTART;TZID="Europe/Warsaw":20260127T143000
DTEND;TZID="Europe/Warsaw":20260127T210000
DTSTAMP:20260423T095508
CREATED:20251229T144327Z
LAST-MODIFIED:20251229T144327Z
UID:13402-1769524200-1769547600@rubinvet.pl
SUMMARY:14.30 - 21.00 lek. wet. Marta Barczak
DESCRIPTION:
URL:https://rubinvet.pl/dyzur/14-30-21-00-lek-wet-marta-barczak-42/
END:VEVENT
BEGIN:VEVENT
DTSTART;TZID="Europe/Warsaw":20260127T170000
DTEND;TZID="Europe/Warsaw":20260127T210000
DTSTAMP:20260423T095508
CREATED:20251229T144416Z
LAST-MODIFIED:20251229T144416Z
UID:13406-1769533200-1769547600@rubinvet.pl
SUMMARY:17.00 - 21.00 lek. wet. Roman Goncharuk zapisy
DESCRIPTION:
URL:https://rubinvet.pl/dyzur/17-00-21-00-lek-wet-roman-goncharuk-zapisy-24/
END:VEVENT
END:VCALENDAR