BEGIN:VCALENDAR
VERSION:2.0
PRODID:-//Gabinet Weterynaryjny RubinVet | Piaseczno, Józefosław - ECPv4.9.8//NONSGML v1.0//EN
CALSCALE:GREGORIAN
METHOD:PUBLISH
X-WR-CALNAME:Gabinet Weterynaryjny RubinVet | Piaseczno, Józefosław
X-ORIGINAL-URL:https://rubinvet.pl
X-WR-CALDESC:Dyżury: Gabinet Weterynaryjny RubinVet | Piaseczno, Józefosław
BEGIN:VTIMEZONE
TZID:Europe/Warsaw
BEGIN:DAYLIGHT
TZOFFSETFROM:+0100
TZOFFSETTO:+0200
TZNAME:CEST
DTSTART:20260329T010000
END:DAYLIGHT
BEGIN:STANDARD
TZOFFSETFROM:+0200
TZOFFSETTO:+0100
TZNAME:CET
DTSTART:20261025T010000
END:STANDARD
END:VTIMEZONE
BEGIN:VEVENT
DTSTART;TZID="Europe/Warsaw":20260128T080000
DTEND;TZID="Europe/Warsaw":20260128T143000
DTSTAMP:20260423T133717
CREATED:20251229T144516Z
LAST-MODIFIED:20251229T144516Z
UID:13412-1769587200-1769610600@rubinvet.pl
SUMMARY:8.00 - 14.30 lek. wet. Zofia Maksimowicz-Malik
DESCRIPTION:
URL:https://rubinvet.pl/dyzur/8-00-14-30-lek-wet-zofia-maksimowicz-malik-90/
END:VEVENT
BEGIN:VEVENT
DTSTART;TZID="Europe/Warsaw":20260128T080000
DTEND;TZID="Europe/Warsaw":20260128T143000
DTSTAMP:20260423T133717
CREATED:20251229T144619Z
LAST-MODIFIED:20251229T144619Z
UID:13418-1769587200-1769610600@rubinvet.pl
SUMMARY:8.00 - 14.30 lek. wet. Adrianna Raboszuk zapisy
DESCRIPTION:
URL:https://rubinvet.pl/dyzur/8-00-14-30-lek-wet-adrianna-raboszuk-zapisy-44/
END:VEVENT
BEGIN:VEVENT
DTSTART;TZID="Europe/Warsaw":20260128T080000
DTEND;TZID="Europe/Warsaw":20260128T150000
DTSTAMP:20260423T133717
CREATED:20251229T151048Z
LAST-MODIFIED:20251229T151048Z
UID:13424-1769587200-1769612400@rubinvet.pl
SUMMARY:8.00 - 15.00 tech. wet. Dominika Michalak
DESCRIPTION:
URL:https://rubinvet.pl/dyzur/8-00-15-00-tech-wet-dominika-michalak-281/
END:VEVENT
BEGIN:VEVENT
DTSTART;TZID="Europe/Warsaw":20260128T143000
DTEND;TZID="Europe/Warsaw":20260128T210000
DTSTAMP:20260423T133717
CREATED:20251229T151142Z
LAST-MODIFIED:20251229T151142Z
UID:13428-1769610600-1769634000@rubinvet.pl
SUMMARY:14.30 - 21.00 lek. wet. Rafał Kaczor
DESCRIPTION:
URL:https://rubinvet.pl/dyzur/14-30-21-00-lek-wet-rafal-kaczor-481/
END:VEVENT
BEGIN:VEVENT
DTSTART;TZID="Europe/Warsaw":20260128T143000
DTEND;TZID="Europe/Warsaw":20260128T210000
DTSTAMP:20260423T133717
CREATED:20251229T151332Z
LAST-MODIFIED:20251229T151332Z
UID:13434-1769610600-1769634000@rubinvet.pl
SUMMARY:14.30 - 21.00 lek. wet. Gabriela Winiarska zapisy
DESCRIPTION:
URL:https://rubinvet.pl/dyzur/14-30-21-00-lek-wet-gabriela-winiarska-zapisy-4/
END:VEVENT
BEGIN:VEVENT
DTSTART;TZID="Europe/Warsaw":20260128T143000
DTEND;TZID="Europe/Warsaw":20260128T210000
DTSTAMP:20260423T133717
CREATED:20251229T182446Z
LAST-MODIFIED:20251229T182446Z
UID:13518-1769610600-1769634000@rubinvet.pl
SUMMARY:14.30 - 21.00 lek. wet. Marta Barczak
DESCRIPTION:
URL:https://rubinvet.pl/dyzur/14-30-21-00-lek-wet-marta-barczak-49/
END:VEVENT
END:VCALENDAR