BEGIN:VCALENDAR
VERSION:2.0
PRODID:-//Gabinet Weterynaryjny RubinVet | Piaseczno, Józefosław - ECPv4.9.8//NONSGML v1.0//EN
CALSCALE:GREGORIAN
METHOD:PUBLISH
X-WR-CALNAME:Gabinet Weterynaryjny RubinVet | Piaseczno, Józefosław
X-ORIGINAL-URL:https://rubinvet.pl
X-WR-CALDESC:Dyżury: Gabinet Weterynaryjny RubinVet | Piaseczno, Józefosław
BEGIN:VTIMEZONE
TZID:Europe/Warsaw
BEGIN:DAYLIGHT
TZOFFSETFROM:+0100
TZOFFSETTO:+0200
TZNAME:CEST
DTSTART:20260329T010000
END:DAYLIGHT
BEGIN:STANDARD
TZOFFSETFROM:+0200
TZOFFSETTO:+0100
TZNAME:CET
DTSTART:20261025T010000
END:STANDARD
END:VTIMEZONE
BEGIN:VEVENT
DTSTART;TZID="Europe/Warsaw":20260130T080000
DTEND;TZID="Europe/Warsaw":20260130T143000
DTSTAMP:20260423T155719
CREATED:20251229T182146Z
LAST-MODIFIED:20251229T182146Z
UID:13502-1769760000-1769783400@rubinvet.pl
SUMMARY:8.00 - 14.30 lek. wet. Gabriela Winiarska
DESCRIPTION:
URL:https://rubinvet.pl/dyzur/8-00-14-30-lek-wet-gabriela-winiarska-99/
END:VEVENT
BEGIN:VEVENT
DTSTART;TZID="Europe/Warsaw":20260130T080000
DTEND;TZID="Europe/Warsaw":20260130T143000
DTSTAMP:20260423T155719
CREATED:20251229T182220Z
LAST-MODIFIED:20251229T182220Z
UID:13504-1769760000-1769783400@rubinvet.pl
SUMMARY:8.00 - 14.30 lek. wet. Marta Barczak
DESCRIPTION:
URL:https://rubinvet.pl/dyzur/8-00-14-30-lek-wet-marta-barczak-29/
END:VEVENT
BEGIN:VEVENT
DTSTART;TZID="Europe/Warsaw":20260130T080000
DTEND;TZID="Europe/Warsaw":20260130T150000
DTSTAMP:20260423T155719
CREATED:20251229T182239Z
LAST-MODIFIED:20251229T182239Z
UID:13506-1769760000-1769785200@rubinvet.pl
SUMMARY:8.00 - 15.00 tech. wet. Dominika Michalak
DESCRIPTION:
URL:https://rubinvet.pl/dyzur/8-00-15-00-tech-wet-dominika-michalak-284/
END:VEVENT
BEGIN:VEVENT
DTSTART;TZID="Europe/Warsaw":20260130T143000
DTEND;TZID="Europe/Warsaw":20260130T210000
DTSTAMP:20260423T155719
CREATED:20251229T182514Z
LAST-MODIFIED:20251229T182514Z
UID:13520-1769783400-1769806800@rubinvet.pl
SUMMARY:14.30 - 21.00 lek. wet. Rafał Kaczor zapisy
DESCRIPTION:
URL:https://rubinvet.pl/dyzur/14-30-21-00-lek-wet-rafal-kaczor-zapisy-80/
END:VEVENT
BEGIN:VEVENT
DTSTART;TZID="Europe/Warsaw":20260130T143000
DTEND;TZID="Europe/Warsaw":20260130T210000
DTSTAMP:20260423T155719
CREATED:20251229T182546Z
LAST-MODIFIED:20251229T182546Z
UID:13522-1769783400-1769806800@rubinvet.pl
SUMMARY:14.30 - 21.00 lek. wet. Adrianna Raboszuk
DESCRIPTION:
URL:https://rubinvet.pl/dyzur/14-30-21-00-lek-wet-adrianna-raboszuk-32/
END:VEVENT
END:VCALENDAR