BEGIN:VCALENDAR
VERSION:2.0
PRODID:-//Gabinet Weterynaryjny RubinVet | Piaseczno, Józefosław - ECPv4.9.8//NONSGML v1.0//EN
CALSCALE:GREGORIAN
METHOD:PUBLISH
X-WR-CALNAME:Gabinet Weterynaryjny RubinVet | Piaseczno, Józefosław
X-ORIGINAL-URL:https://rubinvet.pl
X-WR-CALDESC:Dyżury: Gabinet Weterynaryjny RubinVet | Piaseczno, Józefosław
BEGIN:VTIMEZONE
TZID:Europe/Warsaw
BEGIN:DAYLIGHT
TZOFFSETFROM:+0100
TZOFFSETTO:+0200
TZNAME:CEST
DTSTART:20260329T010000
END:DAYLIGHT
BEGIN:STANDARD
TZOFFSETFROM:+0200
TZOFFSETTO:+0100
TZNAME:CET
DTSTART:20261025T010000
END:STANDARD
END:VTIMEZONE
BEGIN:VEVENT
DTSTART;TZID="Europe/Warsaw":20260201T100000
DTEND;TZID="Europe/Warsaw":20260201T130000
DTSTAMP:20260423T182339
CREATED:20251229T182715Z
LAST-MODIFIED:20251229T182715Z
UID:13528-1769940000-1769950800@rubinvet.pl
SUMMARY:10.00 - 13.00 lek. wet. Adrianna Raboszuk
DESCRIPTION:
URL:https://rubinvet.pl/dyzur/10-00-13-00-lek-wet-adrianna-raboszuk-18/
END:VEVENT
BEGIN:VEVENT
DTSTART;TZID="Europe/Warsaw":20260201T100000
DTEND;TZID="Europe/Warsaw":20260201T130000
DTSTAMP:20260423T182339
CREATED:20251229T182745Z
LAST-MODIFIED:20251229T182745Z
UID:13530-1769940000-1769950800@rubinvet.pl
SUMMARY:10.00 - 13.00 lek. wet. Ewa Adamska - Olech
DESCRIPTION:
URL:https://rubinvet.pl/dyzur/10-00-13-00-lek-wet-ewa-adamska-olech/
END:VEVENT
END:VCALENDAR