BEGIN:VCALENDAR
VERSION:2.0
PRODID:-//Gabinet Weterynaryjny RubinVet | Piaseczno, Józefosław - ECPv4.9.8//NONSGML v1.0//EN
CALSCALE:GREGORIAN
METHOD:PUBLISH
X-WR-CALNAME:Gabinet Weterynaryjny RubinVet | Piaseczno, Józefosław
X-ORIGINAL-URL:https://rubinvet.pl
X-WR-CALDESC:Dyżury: Gabinet Weterynaryjny RubinVet | Piaseczno, Józefosław
BEGIN:VTIMEZONE
TZID:Europe/Warsaw
BEGIN:DAYLIGHT
TZOFFSETFROM:+0100
TZOFFSETTO:+0200
TZNAME:CEST
DTSTART:20260329T010000
END:DAYLIGHT
BEGIN:STANDARD
TZOFFSETFROM:+0200
TZOFFSETTO:+0100
TZNAME:CET
DTSTART:20261025T010000
END:STANDARD
END:VTIMEZONE
BEGIN:VEVENT
DTSTART;TZID="Europe/Warsaw":20260204T080000
DTEND;TZID="Europe/Warsaw":20260204T143000
DTSTAMP:20260421T120834
CREATED:20260120T103249Z
LAST-MODIFIED:20260120T103249Z
UID:13561-1770192000-1770215400@rubinvet.pl
SUMMARY:8.00 - 14.30 lek. wet. Zofia Maksimowicz-Malik
DESCRIPTION:
URL:https://rubinvet.pl/dyzur/8-00-14-30-lek-wet-zofia-maksimowicz-malik-92/
END:VEVENT
BEGIN:VEVENT
DTSTART;TZID="Europe/Warsaw":20260204T080000
DTEND;TZID="Europe/Warsaw":20260204T143000
DTSTAMP:20260421T120834
CREATED:20260120T103313Z
LAST-MODIFIED:20260120T103313Z
UID:13563-1770192000-1770215400@rubinvet.pl
SUMMARY:8.00 - 14.30 lek. wet. Adrianna Raboszuk zapisy
DESCRIPTION:
URL:https://rubinvet.pl/dyzur/8-00-14-30-lek-wet-adrianna-raboszuk-zapisy-45/
END:VEVENT
BEGIN:VEVENT
DTSTART;TZID="Europe/Warsaw":20260204T080000
DTEND;TZID="Europe/Warsaw":20260204T150000
DTSTAMP:20260421T120834
CREATED:20260120T103331Z
LAST-MODIFIED:20260120T103331Z
UID:13565-1770192000-1770217200@rubinvet.pl
SUMMARY:8.00 - 15.00 tech. wet. Dominika Michalak
DESCRIPTION:
URL:https://rubinvet.pl/dyzur/8-00-15-00-tech-wet-dominika-michalak-285/
END:VEVENT
BEGIN:VEVENT
DTSTART;TZID="Europe/Warsaw":20260204T143000
DTEND;TZID="Europe/Warsaw":20260204T210000
DTSTAMP:20260421T120834
CREATED:20260120T103355Z
LAST-MODIFIED:20260120T103355Z
UID:13567-1770215400-1770238800@rubinvet.pl
SUMMARY:14.30 - 21.00 lek. wet. Gabriela Winiarska zapisy
DESCRIPTION:
URL:https://rubinvet.pl/dyzur/14-30-21-00-lek-wet-gabriela-winiarska-zapisy-7/
END:VEVENT
BEGIN:VEVENT
DTSTART;TZID="Europe/Warsaw":20260204T143000
DTEND;TZID="Europe/Warsaw":20260204T210000
DTSTAMP:20260421T120834
CREATED:20260120T103415Z
LAST-MODIFIED:20260120T103415Z
UID:13569-1770215400-1770238800@rubinvet.pl
SUMMARY:14.30 - 21.00 lek. wet. Rafał Kaczor
DESCRIPTION:
URL:https://rubinvet.pl/dyzur/14-30-21-00-lek-wet-rafal-kaczor-482/
END:VEVENT
BEGIN:VEVENT
DTSTART;TZID="Europe/Warsaw":20260204T143000
DTEND;TZID="Europe/Warsaw":20260204T210000
DTSTAMP:20260421T120834
CREATED:20260120T103441Z
LAST-MODIFIED:20260120T103441Z
UID:13571-1770215400-1770238800@rubinvet.pl
SUMMARY:14.30 - 21.00 lek. wet. Marta Barczak
DESCRIPTION:
URL:https://rubinvet.pl/dyzur/14-30-21-00-lek-wet-marta-barczak-50/
END:VEVENT
END:VCALENDAR