BEGIN:VCALENDAR
VERSION:2.0
PRODID:-//Gabinet Weterynaryjny RubinVet | Piaseczno, Józefosław - ECPv4.9.8//NONSGML v1.0//EN
CALSCALE:GREGORIAN
METHOD:PUBLISH
X-WR-CALNAME:Gabinet Weterynaryjny RubinVet | Piaseczno, Józefosław
X-ORIGINAL-URL:https://rubinvet.pl
X-WR-CALDESC:Dyżury: Gabinet Weterynaryjny RubinVet | Piaseczno, Józefosław
BEGIN:VTIMEZONE
TZID:Europe/Warsaw
BEGIN:DAYLIGHT
TZOFFSETFROM:+0100
TZOFFSETTO:+0200
TZNAME:CEST
DTSTART:20260329T010000
END:DAYLIGHT
BEGIN:STANDARD
TZOFFSETFROM:+0200
TZOFFSETTO:+0100
TZNAME:CET
DTSTART:20261025T010000
END:STANDARD
END:VTIMEZONE
BEGIN:VEVENT
DTSTART;TZID="Europe/Warsaw":20260209T080000
DTEND;TZID="Europe/Warsaw":20260209T143000
DTSTAMP:20260421T162242
CREATED:20260120T122845Z
LAST-MODIFIED:20260120T122845Z
UID:13603-1770624000-1770647400@rubinvet.pl
SUMMARY:8.00 – 14.30 lek. wet. Gabriela Winiarska
DESCRIPTION:
URL:https://rubinvet.pl/dyzur/8-00-14-30-lek-wet-gabriela-winiarska-103/
END:VEVENT
BEGIN:VEVENT
DTSTART;TZID="Europe/Warsaw":20260209T080000
DTEND;TZID="Europe/Warsaw":20260209T143000
DTSTAMP:20260421T162242
CREATED:20260120T122941Z
LAST-MODIFIED:20260120T122941Z
UID:13609-1770624000-1770647400@rubinvet.pl
SUMMARY:8.00 - 14.30 lek. wet. Adrianna Raboszuk zapisy
DESCRIPTION:
URL:https://rubinvet.pl/dyzur/8-00-14-30-lek-wet-adrianna-raboszuk-zapisy-46/
END:VEVENT
BEGIN:VEVENT
DTSTART;TZID="Europe/Warsaw":20260209T140000
DTEND;TZID="Europe/Warsaw":20260209T210000
DTSTAMP:20260421T162242
CREATED:20260120T123052Z
LAST-MODIFIED:20260120T123052Z
UID:13615-1770645600-1770670800@rubinvet.pl
SUMMARY:14.00 - 21.00 tech. wet. Dominika Michalak
DESCRIPTION:
URL:https://rubinvet.pl/dyzur/14-00-21-00-tech-wet-dominika-michalak-261/
END:VEVENT
BEGIN:VEVENT
DTSTART;TZID="Europe/Warsaw":20260209T143000
DTEND;TZID="Europe/Warsaw":20260209T210000
DTSTAMP:20260421T162242
CREATED:20260120T123151Z
LAST-MODIFIED:20260120T123151Z
UID:13621-1770647400-1770670800@rubinvet.pl
SUMMARY:14.30 - 21.00 lek. wet. Zofia Maksimowicz-Malik
DESCRIPTION:
URL:https://rubinvet.pl/dyzur/14-30-21-00-lek-wet-zofia-maksimowicz-malik-97/
END:VEVENT
BEGIN:VEVENT
DTSTART;TZID="Europe/Warsaw":20260209T143000
DTEND;TZID="Europe/Warsaw":20260209T210000
DTSTAMP:20260421T162242
CREATED:20260128T072221Z
LAST-MODIFIED:20260128T072221Z
UID:13799-1770647400-1770670800@rubinvet.pl
SUMMARY:14.30 - 21.00 lek. wet. Marta Barczak
DESCRIPTION:
URL:https://rubinvet.pl/dyzur/14-30-21-00-lek-wet-marta-barczak-57/
END:VEVENT
END:VCALENDAR