BEGIN:VCALENDAR
VERSION:2.0
PRODID:-//Gabinet Weterynaryjny RubinVet | Piaseczno, Józefosław - ECPv4.9.8//NONSGML v1.0//EN
CALSCALE:GREGORIAN
METHOD:PUBLISH
X-WR-CALNAME:Gabinet Weterynaryjny RubinVet | Piaseczno, Józefosław
X-ORIGINAL-URL:https://rubinvet.pl
X-WR-CALDESC:Dyżury: Gabinet Weterynaryjny RubinVet | Piaseczno, Józefosław
BEGIN:VTIMEZONE
TZID:Europe/Warsaw
BEGIN:DAYLIGHT
TZOFFSETFROM:+0100
TZOFFSETTO:+0200
TZNAME:CEST
DTSTART:20260329T010000
END:DAYLIGHT
BEGIN:STANDARD
TZOFFSETFROM:+0200
TZOFFSETTO:+0100
TZNAME:CET
DTSTART:20261025T010000
END:STANDARD
END:VTIMEZONE
BEGIN:VEVENT
DTSTART;TZID="Europe/Warsaw":20260226T080000
DTEND;TZID="Europe/Warsaw":20260226T143000
DTSTAMP:20260423T134714
CREATED:20260122T155621Z
LAST-MODIFIED:20260122T155621Z
UID:13706-1772092800-1772116200@rubinvet.pl
SUMMARY:8.00 - 14.30 lek. wet. Gabriela Winiarska
DESCRIPTION:
URL:https://rubinvet.pl/dyzur/8-00-14-30-lek-wet-gabriela-winiarska-108/
END:VEVENT
BEGIN:VEVENT
DTSTART;TZID="Europe/Warsaw":20260226T080000
DTEND;TZID="Europe/Warsaw":20260226T143000
DTSTAMP:20260423T134714
CREATED:20260122T160022Z
LAST-MODIFIED:20260122T160022Z
UID:13726-1772092800-1772116200@rubinvet.pl
SUMMARY:8.00 - 14.30 lek. wet. Marta Barczak
DESCRIPTION:
URL:https://rubinvet.pl/dyzur/8-00-14-30-lek-wet-marta-barczak-34/
END:VEVENT
BEGIN:VEVENT
DTSTART;TZID="Europe/Warsaw":20260226T140000
DTEND;TZID="Europe/Warsaw":20260226T210000
DTSTAMP:20260423T134714
CREATED:20260122T160201Z
LAST-MODIFIED:20260122T160201Z
UID:13734-1772114400-1772139600@rubinvet.pl
SUMMARY:14.00 - 21.00 tech. wet. Dominika Michalak
DESCRIPTION:
URL:https://rubinvet.pl/dyzur/14-00-21-00-tech-wet-dominika-michalak-268/
END:VEVENT
BEGIN:VEVENT
DTSTART;TZID="Europe/Warsaw":20260226T143000
DTEND;TZID="Europe/Warsaw":20260226T210000
DTSTAMP:20260423T134714
CREATED:20260122T155729Z
LAST-MODIFIED:20260122T155729Z
UID:13712-1772116200-1772139600@rubinvet.pl
SUMMARY:14.30 - 21.00 lek. wet. Rafał Kaczor zapisy
DESCRIPTION:
URL:https://rubinvet.pl/dyzur/14-30-21-00-lek-wet-rafal-kaczor-zapisy-84/
END:VEVENT
BEGIN:VEVENT
DTSTART;TZID="Europe/Warsaw":20260226T143000
DTEND;TZID="Europe/Warsaw":20260226T210000
DTSTAMP:20260423T134714
CREATED:20260122T155921Z
LAST-MODIFIED:20260122T155921Z
UID:13722-1772116200-1772139600@rubinvet.pl
SUMMARY:14.30 - 21.00 lek. wet. Zofia Maksimowicz-Malik
DESCRIPTION:
URL:https://rubinvet.pl/dyzur/14-30-21-00-lek-wet-zofia-maksimowicz-malik-102/
END:VEVENT
END:VCALENDAR