BEGIN:VCALENDAR
VERSION:2.0
PRODID:-//Gabinet Weterynaryjny RubinVet | Piaseczno, Józefosław - ECPv4.9.8//NONSGML v1.0//EN
CALSCALE:GREGORIAN
METHOD:PUBLISH
X-WR-CALNAME:Gabinet Weterynaryjny RubinVet | Piaseczno, Józefosław
X-ORIGINAL-URL:https://rubinvet.pl
X-WR-CALDESC:Dyżury: Gabinet Weterynaryjny RubinVet | Piaseczno, Józefosław
BEGIN:VTIMEZONE
TZID:Europe/Warsaw
BEGIN:DAYLIGHT
TZOFFSETFROM:+0100
TZOFFSETTO:+0200
TZNAME:CEST
DTSTART:20260329T010000
END:DAYLIGHT
BEGIN:STANDARD
TZOFFSETFROM:+0200
TZOFFSETTO:+0100
TZNAME:CET
DTSTART:20261025T010000
END:STANDARD
END:VTIMEZONE
BEGIN:VEVENT
DTSTART;TZID="Europe/Warsaw":20260304T080000
DTEND;TZID="Europe/Warsaw":20260304T143000
DTSTAMP:20260421T105015
CREATED:20260223T154642Z
LAST-MODIFIED:20260223T154642Z
UID:13836-1772611200-1772634600@rubinvet.pl
SUMMARY:8.00 - 14.30 lek. wet. Adrianna Raboszuk zapisy
DESCRIPTION:
URL:https://rubinvet.pl/dyzur/8-00-14-30-lek-wet-adrianna-raboszuk-zapisy-49/
END:VEVENT
BEGIN:VEVENT
DTSTART;TZID="Europe/Warsaw":20260304T080000
DTEND;TZID="Europe/Warsaw":20260304T150000
DTSTAMP:20260421T105015
CREATED:20260223T154703Z
LAST-MODIFIED:20260223T154703Z
UID:13838-1772611200-1772636400@rubinvet.pl
SUMMARY:8.00 - 15.00 tech. wet. Dominika Michalak
DESCRIPTION:
URL:https://rubinvet.pl/dyzur/8-00-15-00-tech-wet-dominika-michalak-293/
END:VEVENT
BEGIN:VEVENT
DTSTART;TZID="Europe/Warsaw":20260304T080000
DTEND;TZID="Europe/Warsaw":20260304T143000
DTSTAMP:20260421T105015
CREATED:20260223T154726Z
LAST-MODIFIED:20260226T141500Z
UID:13840-1772611200-1772634600@rubinvet.pl
SUMMARY:8.00 - 14.30 lek. wet. Rafał Kaczor
DESCRIPTION:
URL:https://rubinvet.pl/dyzur/14-30-21-00-lek-wet-rafal-kaczor-486/
END:VEVENT
BEGIN:VEVENT
DTSTART;TZID="Europe/Warsaw":20260304T143000
DTEND;TZID="Europe/Warsaw":20260304T210000
DTSTAMP:20260421T105015
CREATED:20260223T154612Z
LAST-MODIFIED:20260226T151906Z
UID:13834-1772634600-1772658000@rubinvet.pl
SUMMARY:14.30 - 21.00 lek. wet. Zofia Maksimowicz-Malik
DESCRIPTION:
URL:https://rubinvet.pl/dyzur/8-00-14-30-lek-wet-zofia-maksimowicz-malik-96/
END:VEVENT
BEGIN:VEVENT
DTSTART;TZID="Europe/Warsaw":20260304T143000
DTEND;TZID="Europe/Warsaw":20260304T210000
DTSTAMP:20260421T105015
CREATED:20260223T154932Z
LAST-MODIFIED:20260223T154932Z
UID:13842-1772634600-1772658000@rubinvet.pl
SUMMARY:14.30 - 21.00 lek. wet. Marta Barczak
DESCRIPTION:
URL:https://rubinvet.pl/dyzur/14-30-21-00-lek-wet-marta-barczak-62/
END:VEVENT
BEGIN:VEVENT
DTSTART;TZID="Europe/Warsaw":20260304T143000
DTEND;TZID="Europe/Warsaw":20260304T210000
DTSTAMP:20260421T105015
CREATED:20260223T154958Z
LAST-MODIFIED:20260223T154958Z
UID:13844-1772634600-1772658000@rubinvet.pl
SUMMARY:14.30 - 21.00 lek. wet. Gabriela Winiarska zapisy
DESCRIPTION:
URL:https://rubinvet.pl/dyzur/14-30-21-00-lek-wet-gabriela-winiarska-zapisy-13/
END:VEVENT
END:VCALENDAR