BEGIN:VCALENDAR
VERSION:2.0
PRODID:-//Gabinet Weterynaryjny RubinVet | Piaseczno, Józefosław - ECPv4.9.8//NONSGML v1.0//EN
CALSCALE:GREGORIAN
METHOD:PUBLISH
X-WR-CALNAME:Gabinet Weterynaryjny RubinVet | Piaseczno, Józefosław
X-ORIGINAL-URL:https://rubinvet.pl
X-WR-CALDESC:Dyżury: Gabinet Weterynaryjny RubinVet | Piaseczno, Józefosław
BEGIN:VTIMEZONE
TZID:Europe/Warsaw
BEGIN:DAYLIGHT
TZOFFSETFROM:+0100
TZOFFSETTO:+0200
TZNAME:CEST
DTSTART:20260329T010000
END:DAYLIGHT
BEGIN:STANDARD
TZOFFSETFROM:+0200
TZOFFSETTO:+0100
TZNAME:CET
DTSTART:20261025T010000
END:STANDARD
END:VTIMEZONE
BEGIN:VEVENT
DTSTART;TZID="Europe/Warsaw":20260305T080000
DTEND;TZID="Europe/Warsaw":20260305T143000
DTSTAMP:20260421T120834
CREATED:20260223T155038Z
LAST-MODIFIED:20260223T155038Z
UID:13846-1772697600-1772721000@rubinvet.pl
SUMMARY:8.00 - 14.30 lek. wet. Gabriela Winiarska
DESCRIPTION:
URL:https://rubinvet.pl/dyzur/8-00-14-30-lek-wet-gabriela-winiarska-111/
END:VEVENT
BEGIN:VEVENT
DTSTART;TZID="Europe/Warsaw":20260305T080000
DTEND;TZID="Europe/Warsaw":20260305T120000
DTSTAMP:20260421T120834
CREATED:20260302T163154Z
LAST-MODIFIED:20260302T163154Z
UID:14109-1772697600-1772712000@rubinvet.pl
SUMMARY:8.00 - 12.00 lek. wet. Adrianna Raboszuk
DESCRIPTION:
URL:https://rubinvet.pl/dyzur/8-00-12-00-lek-wet-adrianna-raboszuk-7/
END:VEVENT
BEGIN:VEVENT
DTSTART;TZID="Europe/Warsaw":20260305T140000
DTEND;TZID="Europe/Warsaw":20260305T210000
DTSTAMP:20260421T120834
CREATED:20260223T155143Z
LAST-MODIFIED:20260223T155143Z
UID:13853-1772719200-1772744400@rubinvet.pl
SUMMARY:14.00 - 21.00 tech. wet. Dominika Michalak
DESCRIPTION:
URL:https://rubinvet.pl/dyzur/14-00-21-00-tech-wet-dominika-michalak-272/
END:VEVENT
BEGIN:VEVENT
DTSTART;TZID="Europe/Warsaw":20260305T143000
DTEND;TZID="Europe/Warsaw":20260305T210000
DTSTAMP:20260421T120834
CREATED:20260223T155125Z
LAST-MODIFIED:20260223T155125Z
UID:13851-1772721000-1772744400@rubinvet.pl
SUMMARY:14.30 - 21.00 lek. wet. Rafał Kaczor zapisy
DESCRIPTION:
URL:https://rubinvet.pl/dyzur/14-30-21-00-lek-wet-rafal-kaczor-zapisy-86/
END:VEVENT
BEGIN:VEVENT
DTSTART;TZID="Europe/Warsaw":20260305T143000
DTEND;TZID="Europe/Warsaw":20260305T210000
DTSTAMP:20260421T120834
CREATED:20260223T155207Z
LAST-MODIFIED:20260223T155207Z
UID:13855-1772721000-1772744400@rubinvet.pl
SUMMARY:14.30 - 21.00 lek. wet. Zofia Maksimowicz-Malik
DESCRIPTION:
URL:https://rubinvet.pl/dyzur/14-30-21-00-lek-wet-zofia-maksimowicz-malik-104/
END:VEVENT
END:VCALENDAR