BEGIN:VCALENDAR
VERSION:2.0
PRODID:-//Gabinet Weterynaryjny RubinVet | Piaseczno, Józefosław - ECPv4.9.8//NONSGML v1.0//EN
CALSCALE:GREGORIAN
METHOD:PUBLISH
X-WR-CALNAME:Gabinet Weterynaryjny RubinVet | Piaseczno, Józefosław
X-ORIGINAL-URL:https://rubinvet.pl
X-WR-CALDESC:Dyżury: Gabinet Weterynaryjny RubinVet | Piaseczno, Józefosław
BEGIN:VTIMEZONE
TZID:Europe/Warsaw
BEGIN:DAYLIGHT
TZOFFSETFROM:+0100
TZOFFSETTO:+0200
TZNAME:CEST
DTSTART:20260329T010000
END:DAYLIGHT
BEGIN:STANDARD
TZOFFSETFROM:+0200
TZOFFSETTO:+0100
TZNAME:CET
DTSTART:20261025T010000
END:STANDARD
END:VTIMEZONE
BEGIN:VEVENT
DTSTART;TZID="Europe/Warsaw":20260313T080000
DTEND;TZID="Europe/Warsaw":20260313T143000
DTSTAMP:20260423T095506
CREATED:20260225T113527Z
LAST-MODIFIED:20260225T113527Z
UID:14042-1773388800-1773412200@rubinvet.pl
SUMMARY:8.00 - 14.30 lek. wet. Zofia Maksimowicz-Malik zapisy
DESCRIPTION:
URL:https://rubinvet.pl/dyzur/8-00-14-30-lek-wet-zofia-maksimowicz-malik-zapisy-42/
END:VEVENT
BEGIN:VEVENT
DTSTART;TZID="Europe/Warsaw":20260313T080000
DTEND;TZID="Europe/Warsaw":20260313T143000
DTSTAMP:20260423T095506
CREATED:20260225T113639Z
LAST-MODIFIED:20260225T113639Z
UID:14046-1773388800-1773412200@rubinvet.pl
SUMMARY:8.00 - 14.30 lek. wet. Marta Barczak
DESCRIPTION:
URL:https://rubinvet.pl/dyzur/8-00-14-30-lek-wet-marta-barczak-40/
END:VEVENT
BEGIN:VEVENT
DTSTART;TZID="Europe/Warsaw":20260313T080000
DTEND;TZID="Europe/Warsaw":20260313T150000
DTSTAMP:20260423T095506
CREATED:20260225T113656Z
LAST-MODIFIED:20260225T113656Z
UID:14048-1773388800-1773414000@rubinvet.pl
SUMMARY:8.00 - 15.00 tech. wet. Dominika Michalak
DESCRIPTION:
URL:https://rubinvet.pl/dyzur/8-00-15-00-tech-wet-dominika-michalak-299/
END:VEVENT
BEGIN:VEVENT
DTSTART;TZID="Europe/Warsaw":20260313T090000
DTEND;TZID="Europe/Warsaw":20260313T140000
DTSTAMP:20260423T095506
CREATED:20260225T113609Z
LAST-MODIFIED:20260306T151528Z
UID:14044-1773392400-1773410400@rubinvet.pl
SUMMARY:9.00 - 14.00 lek. wet. Rafał Kaczor zapisy
DESCRIPTION:
URL:https://rubinvet.pl/dyzur/9-00-15-30-lek-wet-rafal-kaczor/
END:VEVENT
BEGIN:VEVENT
DTSTART;TZID="Europe/Warsaw":20260313T143000
DTEND;TZID="Europe/Warsaw":20260313T210000
DTSTAMP:20260423T095506
CREATED:20260225T113724Z
LAST-MODIFIED:20260225T113724Z
UID:14050-1773412200-1773435600@rubinvet.pl
SUMMARY:14.30 - 21.00 lek. wet. Adrianna Raboszuk
DESCRIPTION:
URL:https://rubinvet.pl/dyzur/14-30-21-00-lek-wet-adrianna-raboszuk-37/
END:VEVENT
BEGIN:VEVENT
DTSTART;TZID="Europe/Warsaw":20260313T143000
DTEND;TZID="Europe/Warsaw":20260313T210000
DTSTAMP:20260423T095506
CREATED:20260225T113743Z
LAST-MODIFIED:20260225T113743Z
UID:14053-1773412200-1773435600@rubinvet.pl
SUMMARY:14.30 - 21.00 lek. wet. Gabriela Winiarska zapisy
DESCRIPTION:
URL:https://rubinvet.pl/dyzur/14-30-21-00-lek-wet-gabriela-winiarska-zapisy-17/
END:VEVENT
END:VCALENDAR