BEGIN:VCALENDAR
VERSION:2.0
PRODID:-//Gabinet Weterynaryjny RubinVet | Piaseczno, Józefosław - ECPv4.9.8//NONSGML v1.0//EN
CALSCALE:GREGORIAN
METHOD:PUBLISH
X-WR-CALNAME:Gabinet Weterynaryjny RubinVet | Piaseczno, Józefosław
X-ORIGINAL-URL:https://rubinvet.pl
X-WR-CALDESC:Dyżury: Gabinet Weterynaryjny RubinVet | Piaseczno, Józefosław
BEGIN:VTIMEZONE
TZID:Europe/Warsaw
BEGIN:DAYLIGHT
TZOFFSETFROM:+0100
TZOFFSETTO:+0200
TZNAME:CEST
DTSTART:20260329T010000
END:DAYLIGHT
BEGIN:STANDARD
TZOFFSETFROM:+0200
TZOFFSETTO:+0100
TZNAME:CET
DTSTART:20261025T010000
END:STANDARD
END:VTIMEZONE
BEGIN:VEVENT
DTSTART;TZID="Europe/Warsaw":20260316T080000
DTEND;TZID="Europe/Warsaw":20260316T143000
DTSTAMP:20260421T120827
CREATED:20260223T160537Z
LAST-MODIFIED:20260223T162230Z
UID:13880-1773648000-1773671400@rubinvet.pl
SUMMARY:8.00 – 14.30 lek. wet. Adrianna Raboszuk zapisy
DESCRIPTION:
URL:https://rubinvet.pl/dyzur/8-00-14-30-lek-wet-adrianna-raboszuk-zapisy-51/
END:VEVENT
BEGIN:VEVENT
DTSTART;TZID="Europe/Warsaw":20260316T080000
DTEND;TZID="Europe/Warsaw":20260316T143000
DTSTAMP:20260421T120827
CREATED:20260223T160655Z
LAST-MODIFIED:20260223T160655Z
UID:13888-1773648000-1773671400@rubinvet.pl
SUMMARY:8.00 – 14.30 lek. wet. Gabriela Winiarska
DESCRIPTION:
URL:https://rubinvet.pl/dyzur/8-00-14-30-lek-wet-gabriela-winiarska-114/
END:VEVENT
BEGIN:VEVENT
DTSTART;TZID="Europe/Warsaw":20260316T140000
DTEND;TZID="Europe/Warsaw":20260316T210000
DTSTAMP:20260421T120827
CREATED:20260223T161221Z
LAST-MODIFIED:20260223T161221Z
UID:13895-1773669600-1773694800@rubinvet.pl
SUMMARY:14.00 – 21.00 tech. wet. Dominika Michalak
DESCRIPTION:
URL:https://rubinvet.pl/dyzur/14-00-21-00-tech-wet-dominika-michalak-274/
END:VEVENT
BEGIN:VEVENT
DTSTART;TZID="Europe/Warsaw":20260316T140300
DTEND;TZID="Europe/Warsaw":20260316T210000
DTSTAMP:20260421T120827
CREATED:20260223T161338Z
LAST-MODIFIED:20260223T161338Z
UID:13901-1773669780-1773694800@rubinvet.pl
SUMMARY:14.30 – 21.00 lek. wet. Zofia Maksimowicz-Malik
DESCRIPTION:
URL:https://rubinvet.pl/dyzur/14-30-21-00-lek-wet-zofia-maksimowicz-malik-105/
END:VEVENT
BEGIN:VEVENT
DTSTART;TZID="Europe/Warsaw":20260316T143000
DTEND;TZID="Europe/Warsaw":20260316T210000
DTSTAMP:20260421T120827
CREATED:20260223T161937Z
LAST-MODIFIED:20260223T162016Z
UID:13907-1773671400-1773694800@rubinvet.pl
SUMMARY:14.30 – 21.00 lek. wet. Marta Barczak
DESCRIPTION:
URL:https://rubinvet.pl/dyzur/14-30-21-00-lek-wet-marta-barczak-63/
END:VEVENT
END:VCALENDAR