BEGIN:VCALENDAR
VERSION:2.0
PRODID:-//Gabinet Weterynaryjny RubinVet | Piaseczno, Józefosław - ECPv4.9.8//NONSGML v1.0//EN
CALSCALE:GREGORIAN
METHOD:PUBLISH
X-WR-CALNAME:Gabinet Weterynaryjny RubinVet | Piaseczno, Józefosław
X-ORIGINAL-URL:https://rubinvet.pl
X-WR-CALDESC:Dyżury: Gabinet Weterynaryjny RubinVet | Piaseczno, Józefosław
BEGIN:VTIMEZONE
TZID:Europe/Warsaw
BEGIN:DAYLIGHT
TZOFFSETFROM:+0100
TZOFFSETTO:+0200
TZNAME:CEST
DTSTART:20260329T010000
END:DAYLIGHT
BEGIN:STANDARD
TZOFFSETFROM:+0200
TZOFFSETTO:+0100
TZNAME:CET
DTSTART:20261025T010000
END:STANDARD
END:VTIMEZONE
BEGIN:VEVENT
DTSTART;TZID="Europe/Warsaw":20260317T080000
DTEND;TZID="Europe/Warsaw":20260317T143000
DTSTAMP:20260421T105016
CREATED:20260223T162716Z
LAST-MODIFIED:20260223T162716Z
UID:13925-1773734400-1773757800@rubinvet.pl
SUMMARY:8.00 - 14.30 lek. wet. Zofia Maksimowicz-Malik zapisy
DESCRIPTION:
URL:https://rubinvet.pl/dyzur/8-00-14-30-lek-wet-zofia-maksimowicz-malik-zapisy-39/
END:VEVENT
BEGIN:VEVENT
DTSTART;TZID="Europe/Warsaw":20260317T080000
DTEND;TZID="Europe/Warsaw":20260317T133000
DTSTAMP:20260421T105016
CREATED:20260223T162914Z
LAST-MODIFIED:20260223T162914Z
UID:13933-1773734400-1773754200@rubinvet.pl
SUMMARY:8.00 - 13.30 lek. wet. Adrianna Raboszuk
DESCRIPTION:
URL:https://rubinvet.pl/dyzur/8-00-13-30-lek-wet-adrianna-raboszuk-29/
END:VEVENT
BEGIN:VEVENT
DTSTART;TZID="Europe/Warsaw":20260317T093000
DTEND;TZID="Europe/Warsaw":20260317T153000
DTSTAMP:20260421T105016
CREATED:20260223T163041Z
LAST-MODIFIED:20260223T163041Z
UID:13941-1773739800-1773761400@rubinvet.pl
SUMMARY:9.30 - 15.30 lek. wet. Rafał Kaczor zapisy
DESCRIPTION:
URL:https://rubinvet.pl/dyzur/9-30-15-30-lek-wet-rafal-kaczor-zapisy-20/
END:VEVENT
BEGIN:VEVENT
DTSTART;TZID="Europe/Warsaw":20260317T140000
DTEND;TZID="Europe/Warsaw":20260317T210000
DTSTAMP:20260421T105016
CREATED:20260223T165437Z
LAST-MODIFIED:20260223T165437Z
UID:13949-1773756000-1773781200@rubinvet.pl
SUMMARY:14.00 - 21.00 tech. wet. Dominika Michalak
DESCRIPTION:
URL:https://rubinvet.pl/dyzur/14-00-21-00-tech-wet-dominika-michalak-279/
END:VEVENT
BEGIN:VEVENT
DTSTART;TZID="Europe/Warsaw":20260317T143000
DTEND;TZID="Europe/Warsaw":20260317T210000
DTSTAMP:20260421T105016
CREATED:20260224T101157Z
LAST-MODIFIED:20260224T101157Z
UID:13955-1773757800-1773781200@rubinvet.pl
SUMMARY:14.30 - 21.00 lek. wet. Gabriela Winiarska
DESCRIPTION:
URL:https://rubinvet.pl/dyzur/14-30-21-00-lek-wet-gabriela-winiarska-121/
END:VEVENT
BEGIN:VEVENT
DTSTART;TZID="Europe/Warsaw":20260317T143000
DTEND;TZID="Europe/Warsaw":20260317T210000
DTSTAMP:20260421T105016
CREATED:20260224T101635Z
LAST-MODIFIED:20260224T101635Z
UID:13969-1773757800-1773781200@rubinvet.pl
SUMMARY:14.30 - 21.00 lek. wet. Marta Barczak
DESCRIPTION:
URL:https://rubinvet.pl/dyzur/14-30-21-00-lek-wet-marta-barczak-69/
END:VEVENT
END:VCALENDAR