BEGIN:VCALENDAR
VERSION:2.0
PRODID:-//Gabinet Weterynaryjny RubinVet | Piaseczno, Józefosław - ECPv4.9.8//NONSGML v1.0//EN
CALSCALE:GREGORIAN
METHOD:PUBLISH
X-WR-CALNAME:Gabinet Weterynaryjny RubinVet | Piaseczno, Józefosław
X-ORIGINAL-URL:https://rubinvet.pl
X-WR-CALDESC:Dyżury: Gabinet Weterynaryjny RubinVet | Piaseczno, Józefosław
BEGIN:VTIMEZONE
TZID:Europe/Warsaw
BEGIN:DAYLIGHT
TZOFFSETFROM:+0100
TZOFFSETTO:+0200
TZNAME:CEST
DTSTART:20260329T010000
END:DAYLIGHT
BEGIN:STANDARD
TZOFFSETFROM:+0200
TZOFFSETTO:+0100
TZNAME:CET
DTSTART:20261025T010000
END:STANDARD
END:VTIMEZONE
BEGIN:VEVENT
DTSTART;TZID="Europe/Warsaw":20260320T080000
DTEND;TZID="Europe/Warsaw":20260320T143000
DTSTAMP:20260421T105053
CREATED:20260225T114244Z
LAST-MODIFIED:20260225T114244Z
UID:14077-1773993600-1774017000@rubinvet.pl
SUMMARY:8.00 - 14.30 lek. wet. Rafał Kaczor zapisy
DESCRIPTION:
URL:https://rubinvet.pl/dyzur/8-00-14-30-lek-wet-rafal-kaczor-zapisy-78/
END:VEVENT
BEGIN:VEVENT
DTSTART;TZID="Europe/Warsaw":20260320T080000
DTEND;TZID="Europe/Warsaw":20260320T143000
DTSTAMP:20260421T105053
CREATED:20260225T114318Z
LAST-MODIFIED:20260225T114318Z
UID:14079-1773993600-1774017000@rubinvet.pl
SUMMARY:8.00 - 14.30 lek. wet. Zofia Maksimowicz-Malik
DESCRIPTION:
URL:https://rubinvet.pl/dyzur/8-00-14-30-lek-wet-zofia-maksimowicz-malik-100/
END:VEVENT
BEGIN:VEVENT
DTSTART;TZID="Europe/Warsaw":20260320T080000
DTEND;TZID="Europe/Warsaw":20260320T143000
DTSTAMP:20260421T105053
CREATED:20260225T114337Z
LAST-MODIFIED:20260225T114337Z
UID:14081-1773993600-1774017000@rubinvet.pl
SUMMARY:8.00 - 14.30 lek. wet. Marta Barczak
DESCRIPTION:
URL:https://rubinvet.pl/dyzur/8-00-14-30-lek-wet-marta-barczak-41/
END:VEVENT
BEGIN:VEVENT
DTSTART;TZID="Europe/Warsaw":20260320T140000
DTEND;TZID="Europe/Warsaw":20260320T210000
DTSTAMP:20260421T105053
CREATED:20260225T114139Z
LAST-MODIFIED:20260225T122237Z
UID:14071-1774015200-1774040400@rubinvet.pl
SUMMARY:14.00 - 21.00 tech. wet. Dominika Michalak
DESCRIPTION:
URL:https://rubinvet.pl/dyzur/14-00-21-00-tech-wet-dominika-michalak-283/
END:VEVENT
BEGIN:VEVENT
DTSTART;TZID="Europe/Warsaw":20260320T143000
DTEND;TZID="Europe/Warsaw":20260320T210000
DTSTAMP:20260421T105053
CREATED:20260225T114159Z
LAST-MODIFIED:20260225T114159Z
UID:14073-1774017000-1774040400@rubinvet.pl
SUMMARY:14.30 - 21.00 lek. wet. Adrianna Raboszuk
DESCRIPTION:
URL:https://rubinvet.pl/dyzur/14-30-21-00-lek-wet-adrianna-raboszuk-38/
END:VEVENT
BEGIN:VEVENT
DTSTART;TZID="Europe/Warsaw":20260320T143000
DTEND;TZID="Europe/Warsaw":20260320T210000
DTSTAMP:20260421T105053
CREATED:20260225T114224Z
LAST-MODIFIED:20260225T114224Z
UID:14075-1774017000-1774040400@rubinvet.pl
SUMMARY:14.30 - 21.00 lek. wet. Gabriela Winiarska zapisy
DESCRIPTION:
URL:https://rubinvet.pl/dyzur/14-30-21-00-lek-wet-gabriela-winiarska-zapisy-18/
END:VEVENT
END:VCALENDAR