BEGIN:VCALENDAR
VERSION:2.0
PRODID:-//Gabinet Weterynaryjny RubinVet | Piaseczno, Józefosław - ECPv4.9.8//NONSGML v1.0//EN
CALSCALE:GREGORIAN
METHOD:PUBLISH
X-WR-CALNAME:Gabinet Weterynaryjny RubinVet | Piaseczno, Józefosław
X-ORIGINAL-URL:https://rubinvet.pl
X-WR-CALDESC:Dyżury: Gabinet Weterynaryjny RubinVet | Piaseczno, Józefosław
BEGIN:VTIMEZONE
TZID:Europe/Warsaw
BEGIN:DAYLIGHT
TZOFFSETFROM:+0100
TZOFFSETTO:+0200
TZNAME:CEST
DTSTART:20260329T010000
END:DAYLIGHT
BEGIN:STANDARD
TZOFFSETFROM:+0200
TZOFFSETTO:+0100
TZNAME:CET
DTSTART:20261025T010000
END:STANDARD
END:VTIMEZONE
BEGIN:VEVENT
DTSTART;TZID="Europe/Warsaw":20260330T080000
DTEND;TZID="Europe/Warsaw":20260330T143000
DTSTAMP:20260423T164204
CREATED:20260223T160604Z
LAST-MODIFIED:20260223T160604Z
UID:13884-1774857600-1774881000@rubinvet.pl
SUMMARY:8.00 – 14.30 lek. wet. Adrianna Raboszuk zapisy
DESCRIPTION:
URL:https://rubinvet.pl/dyzur/8-00-14-30-lek-wet-adrianna-raboszuk-zapisy-53/
END:VEVENT
BEGIN:VEVENT
DTSTART;TZID="Europe/Warsaw":20260330T080000
DTEND;TZID="Europe/Warsaw":20260330T130000
DTSTAMP:20260423T164204
CREATED:20260223T161418Z
LAST-MODIFIED:20260326T134031Z
UID:13905-1774857600-1774875600@rubinvet.pl
SUMMARY:8.00 - 13.00 lek. wet. Zofia Maksimowicz-Malik
DESCRIPTION:
URL:https://rubinvet.pl/dyzur/14-30-21-00-lek-wet-zofia-maksimowicz-malik-107/
END:VEVENT
BEGIN:VEVENT
DTSTART;TZID="Europe/Warsaw":20260330T140000
DTEND;TZID="Europe/Warsaw":20260330T210000
DTSTAMP:20260423T164204
CREATED:20260223T161256Z
LAST-MODIFIED:20260223T161256Z
UID:13899-1774879200-1774904400@rubinvet.pl
SUMMARY:14.00 – 21.00 tech. wet. Dominika Michalak
DESCRIPTION:
URL:https://rubinvet.pl/dyzur/14-00-21-00-tech-wet-dominika-michalak-276/
END:VEVENT
BEGIN:VEVENT
DTSTART;TZID="Europe/Warsaw":20260330T143000
DTEND;TZID="Europe/Warsaw":20260330T210000
DTSTAMP:20260423T164204
CREATED:20260223T161043Z
LAST-MODIFIED:20260326T133839Z
UID:13893-1774881000-1774904400@rubinvet.pl
SUMMARY:14.30 - 21.00 lek. wet. Gabriela Winiarska
DESCRIPTION:
URL:https://rubinvet.pl/dyzur/8-00-14-30-lek-wet-gabriela-winiarska-116/
END:VEVENT
BEGIN:VEVENT
DTSTART;TZID="Europe/Warsaw":20260330T143000
DTEND;TZID="Europe/Warsaw":20260330T210000
DTSTAMP:20260423T164204
CREATED:20260223T162506Z
LAST-MODIFIED:20260223T162506Z
UID:13917-1774881000-1774904400@rubinvet.pl
SUMMARY:14.30 - 21.00 lek. wet. Marta Barczak
DESCRIPTION:
URL:https://rubinvet.pl/dyzur/14-30-21-00-lek-wet-marta-barczak-66/
END:VEVENT
END:VCALENDAR