BEGIN:VCALENDAR
VERSION:2.0
PRODID:-//Gabinet Weterynaryjny RubinVet | Piaseczno, Józefosław - ECPv4.9.8//NONSGML v1.0//EN
CALSCALE:GREGORIAN
METHOD:PUBLISH
X-WR-CALNAME:Gabinet Weterynaryjny RubinVet | Piaseczno, Józefosław
X-ORIGINAL-URL:https://rubinvet.pl
X-WR-CALDESC:Dyżury: Gabinet Weterynaryjny RubinVet | Piaseczno, Józefosław
BEGIN:VTIMEZONE
TZID:Europe/Warsaw
BEGIN:DAYLIGHT
TZOFFSETFROM:+0100
TZOFFSETTO:+0200
TZNAME:CEST
DTSTART:20260329T010000
END:DAYLIGHT
BEGIN:STANDARD
TZOFFSETFROM:+0200
TZOFFSETTO:+0100
TZNAME:CET
DTSTART:20261025T010000
END:STANDARD
END:VTIMEZONE
BEGIN:VEVENT
DTSTART;TZID="Europe/Warsaw":20260416T080000
DTEND;TZID="Europe/Warsaw":20260416T143000
DTSTAMP:20260419T213756
CREATED:20260325T123145Z
LAST-MODIFIED:20260325T123145Z
UID:14259-1776326400-1776349800@rubinvet.pl
SUMMARY:8.00 - 14.30 lek. wet. Zofia Maksimowicz-Malik
DESCRIPTION:
URL:https://rubinvet.pl/dyzur/8-00-14-30-lek-wet-zofia-maksimowicz-malik-102/
END:VEVENT
BEGIN:VEVENT
DTSTART;TZID="Europe/Warsaw":20260416T080000
DTEND;TZID="Europe/Warsaw":20260416T150000
DTSTAMP:20260419T213756
CREATED:20260325T123206Z
LAST-MODIFIED:20260325T123206Z
UID:14261-1776326400-1776351600@rubinvet.pl
SUMMARY:8.00 - 15.00 tech. wet. Dominika Michalak
DESCRIPTION:
URL:https://rubinvet.pl/dyzur/8-00-15-00-tech-wet-dominika-michalak-307/
END:VEVENT
BEGIN:VEVENT
DTSTART;TZID="Europe/Warsaw":20260416T143000
DTEND;TZID="Europe/Warsaw":20260416T210000
DTSTAMP:20260419T213756
CREATED:20260325T123224Z
LAST-MODIFIED:20260325T123224Z
UID:14263-1776349800-1776373200@rubinvet.pl
SUMMARY:14.30 - 21.00 lek. wet. Rafał Kaczor
DESCRIPTION:
URL:https://rubinvet.pl/dyzur/14-30-21-00-lek-wet-rafal-kaczor-492/
END:VEVENT
BEGIN:VEVENT
DTSTART;TZID="Europe/Warsaw":20260416T143000
DTEND;TZID="Europe/Warsaw":20260416T210000
DTSTAMP:20260419T213756
CREATED:20260325T123240Z
LAST-MODIFIED:20260325T123240Z
UID:14265-1776349800-1776373200@rubinvet.pl
SUMMARY:14.30 - 21.00 lek. wet. Marta Barczak
DESCRIPTION:
URL:https://rubinvet.pl/dyzur/14-30-21-00-lek-wet-marta-barczak-84/
END:VEVENT
END:VCALENDAR