BEGIN:VCALENDAR
VERSION:2.0
PRODID:-//Gabinet Weterynaryjny RubinVet | Piaseczno, Józefosław - ECPv4.9.8//NONSGML v1.0//EN
CALSCALE:GREGORIAN
METHOD:PUBLISH
X-WR-CALNAME:Gabinet Weterynaryjny RubinVet | Piaseczno, Józefosław
X-ORIGINAL-URL:https://rubinvet.pl
X-WR-CALDESC:Dyżury: Gabinet Weterynaryjny RubinVet | Piaseczno, Józefosław
BEGIN:VTIMEZONE
TZID:Europe/Warsaw
BEGIN:DAYLIGHT
TZOFFSETFROM:+0100
TZOFFSETTO:+0200
TZNAME:CEST
DTSTART:20260329T010000
END:DAYLIGHT
BEGIN:STANDARD
TZOFFSETFROM:+0200
TZOFFSETTO:+0100
TZNAME:CET
DTSTART:20261025T010000
END:STANDARD
END:VTIMEZONE
BEGIN:VEVENT
DTSTART;TZID="Europe/Warsaw":20260417T080000
DTEND;TZID="Europe/Warsaw":20260417T143000
DTSTAMP:20260419T201208
CREATED:20260325T123756Z
LAST-MODIFIED:20260325T123756Z
UID:14267-1776412800-1776436200@rubinvet.pl
SUMMARY:8.00 - 14.30 lek. wet. Adrianna Raboszuk
DESCRIPTION:
URL:https://rubinvet.pl/dyzur/8-00-14-30-lek-wet-adrianna-raboszuk-97/
END:VEVENT
BEGIN:VEVENT
DTSTART;TZID="Europe/Warsaw":20260417T080000
DTEND;TZID="Europe/Warsaw":20260417T143000
DTSTAMP:20260419T201208
CREATED:20260325T123817Z
LAST-MODIFIED:20260325T123817Z
UID:14269-1776412800-1776436200@rubinvet.pl
SUMMARY:8.00 - 14.30 lek. wet. Marta Barczak
DESCRIPTION:
URL:https://rubinvet.pl/dyzur/8-00-14-30-lek-wet-marta-barczak-45/
END:VEVENT
BEGIN:VEVENT
DTSTART;TZID="Europe/Warsaw":20260417T140000
DTEND;TZID="Europe/Warsaw":20260417T210000
DTSTAMP:20260419T201208
CREATED:20260325T123925Z
LAST-MODIFIED:20260325T123925Z
UID:14275-1776434400-1776459600@rubinvet.pl
SUMMARY:14.00 - 21.00 tech. wet. Dominika Michalak
DESCRIPTION:
URL:https://rubinvet.pl/dyzur/14-00-21-00-tech-wet-dominika-michalak-286/
END:VEVENT
BEGIN:VEVENT
DTSTART;TZID="Europe/Warsaw":20260417T143000
DTEND;TZID="Europe/Warsaw":20260417T210000
DTSTAMP:20260419T201208
CREATED:20260325T123838Z
LAST-MODIFIED:20260325T123838Z
UID:14271-1776436200-1776459600@rubinvet.pl
SUMMARY:14.30 - 21.00 lek. wet. Zofia Maksimowicz-Malik
DESCRIPTION:
URL:https://rubinvet.pl/dyzur/14-30-21-00-lek-wet-zofia-maksimowicz-malik-116/
END:VEVENT
BEGIN:VEVENT
DTSTART;TZID="Europe/Warsaw":20260417T143000
DTEND;TZID="Europe/Warsaw":20260417T210000
DTSTAMP:20260419T201208
CREATED:20260325T123901Z
LAST-MODIFIED:20260325T123901Z
UID:14273-1776436200-1776459600@rubinvet.pl
SUMMARY:14.30 - 21.00 lek. wet. Rafał Kaczor zapisy
DESCRIPTION:
URL:https://rubinvet.pl/dyzur/14-30-21-00-lek-wet-rafal-kaczor-zapisy-95/
END:VEVENT
END:VCALENDAR