BEGIN:VCALENDAR
VERSION:2.0
PRODID:-//Gabinet Weterynaryjny RubinVet | Piaseczno, Józefosław - ECPv4.9.8//NONSGML v1.0//EN
CALSCALE:GREGORIAN
METHOD:PUBLISH
X-WR-CALNAME:Gabinet Weterynaryjny RubinVet | Piaseczno, Józefosław
X-ORIGINAL-URL:https://rubinvet.pl
X-WR-CALDESC:Dyżury: Gabinet Weterynaryjny RubinVet | Piaseczno, Józefosław
BEGIN:VTIMEZONE
TZID:Europe/Warsaw
BEGIN:DAYLIGHT
TZOFFSETFROM:+0100
TZOFFSETTO:+0200
TZNAME:CEST
DTSTART:20260329T010000
END:DAYLIGHT
BEGIN:STANDARD
TZOFFSETFROM:+0200
TZOFFSETTO:+0100
TZNAME:CET
DTSTART:20261025T010000
END:STANDARD
END:VTIMEZONE
BEGIN:VEVENT
DTSTART;TZID="Europe/Warsaw":20260418T090000
DTEND;TZID="Europe/Warsaw":20260418T150000
DTSTAMP:20260419T183706
CREATED:20260325T124055Z
LAST-MODIFIED:20260325T124055Z
UID:14277-1776502800-1776524400@rubinvet.pl
SUMMARY:9.00 - 15.00 lek. wet. Rafał Kaczor
DESCRIPTION:
URL:https://rubinvet.pl/dyzur/9-00-15-00-lek-wet-rafal-kaczor-88/
END:VEVENT
BEGIN:VEVENT
DTSTART;TZID="Europe/Warsaw":20260418T090000
DTEND;TZID="Europe/Warsaw":20260418T150000
DTSTAMP:20260419T183706
CREATED:20260325T124114Z
LAST-MODIFIED:20260325T124114Z
UID:14279-1776502800-1776524400@rubinvet.pl
SUMMARY:9.00 - 15.00 tech. wet. Dominika Michalak
DESCRIPTION:
URL:https://rubinvet.pl/dyzur/9-00-15-00-tech-wet-dominika-michalak-59/
END:VEVENT
END:VCALENDAR