BEGIN:VCALENDAR
VERSION:2.0
PRODID:-//Gabinet Weterynaryjny RubinVet | Piaseczno, Józefosław - ECPv4.9.8//NONSGML v1.0//EN
CALSCALE:GREGORIAN
METHOD:PUBLISH
X-WR-CALNAME:Gabinet Weterynaryjny RubinVet | Piaseczno, Józefosław
X-ORIGINAL-URL:https://rubinvet.pl
X-WR-CALDESC:Dyżury: Gabinet Weterynaryjny RubinVet | Piaseczno, Józefosław
BEGIN:VTIMEZONE
TZID:Europe/Warsaw
BEGIN:DAYLIGHT
TZOFFSETFROM:+0100
TZOFFSETTO:+0200
TZNAME:CEST
DTSTART:20260329T010000
END:DAYLIGHT
BEGIN:STANDARD
TZOFFSETFROM:+0200
TZOFFSETTO:+0100
TZNAME:CET
DTSTART:20261025T010000
END:STANDARD
END:VTIMEZONE
BEGIN:VEVENT
DTSTART;TZID="Europe/Warsaw":20260419T100000
DTEND;TZID="Europe/Warsaw":20260419T130000
DTSTAMP:20260419T170723
CREATED:20260325T124135Z
LAST-MODIFIED:20260325T124135Z
UID:14281-1776592800-1776603600@rubinvet.pl
SUMMARY:10.00 - 13.00 lek. wet. Rafał Kaczor
DESCRIPTION:
URL:https://rubinvet.pl/dyzur/10-00-13-00-lek-wet-rafal-kaczor-93/
END:VEVENT
BEGIN:VEVENT
DTSTART;TZID="Europe/Warsaw":20260419T100000
DTEND;TZID="Europe/Warsaw":20260419T130000
DTSTAMP:20260419T170723
CREATED:20260326T135427Z
LAST-MODIFIED:20260326T135427Z
UID:14290-1776592800-1776603600@rubinvet.pl
SUMMARY:10.00 - 13.00 tech. wet. Dominika Michalak
DESCRIPTION:
URL:https://rubinvet.pl/dyzur/10-00-13-00-tech-wet-dominika-michalak-58/
END:VEVENT
END:VCALENDAR