BEGIN:VCALENDAR
VERSION:2.0
PRODID:-//Gabinet Weterynaryjny RubinVet | Piaseczno, Józefosław - ECPv4.9.8//NONSGML v1.0//EN
CALSCALE:GREGORIAN
METHOD:PUBLISH
X-WR-CALNAME:Gabinet Weterynaryjny RubinVet | Piaseczno, Józefosław
X-ORIGINAL-URL:https://rubinvet.pl
X-WR-CALDESC:Dyżury: Gabinet Weterynaryjny RubinVet | Piaseczno, Józefosław
BEGIN:VTIMEZONE
TZID:Europe/Warsaw
BEGIN:DAYLIGHT
TZOFFSETFROM:+0100
TZOFFSETTO:+0200
TZNAME:CEST
DTSTART:20260329T010000
END:DAYLIGHT
BEGIN:STANDARD
TZOFFSETFROM:+0200
TZOFFSETTO:+0100
TZNAME:CET
DTSTART:20261025T010000
END:STANDARD
END:VTIMEZONE
BEGIN:VEVENT
DTSTART;TZID="Europe/Warsaw":20260429T080000
DTEND;TZID="Europe/Warsaw":20260429T143000
DTSTAMP:20260424T214751
CREATED:20260326T190206Z
LAST-MODIFIED:20260326T190206Z
UID:14380-1777449600-1777473000@rubinvet.pl
SUMMARY:8.00 - 14.30 lek. wet. Adrianna Raboszuk
DESCRIPTION:
URL:https://rubinvet.pl/dyzur/8-00-14-30-lek-wet-adrianna-raboszuk-99/
END:VEVENT
BEGIN:VEVENT
DTSTART;TZID="Europe/Warsaw":20260429T080000
DTEND;TZID="Europe/Warsaw":20260429T150000
DTSTAMP:20260424T214751
CREATED:20260326T190226Z
LAST-MODIFIED:20260326T190226Z
UID:14382-1777449600-1777474800@rubinvet.pl
SUMMARY:8.00 - 15.00 tech. wet. Dominika Michalak
DESCRIPTION:
URL:https://rubinvet.pl/dyzur/8-00-15-00-tech-wet-dominika-michalak-309/
END:VEVENT
BEGIN:VEVENT
DTSTART;TZID="Europe/Warsaw":20260429T080000
DTEND;TZID="Europe/Warsaw":20260429T143000
DTSTAMP:20260424T214751
CREATED:20260326T190506Z
LAST-MODIFIED:20260326T190526Z
UID:14386-1777449600-1777473000@rubinvet.pl
SUMMARY:8.00 - 14.30 lek. wet. Gabriela Winiarska zapisy
DESCRIPTION:
URL:https://rubinvet.pl/dyzur/8-00-14-30-lek-wet-gabriela-winiarska-128/
END:VEVENT
BEGIN:VEVENT
DTSTART;TZID="Europe/Warsaw":20260429T140300
DTEND;TZID="Europe/Warsaw":20260429T210000
DTSTAMP:20260424T214751
CREATED:20260326T190642Z
LAST-MODIFIED:20260326T190642Z
UID:14390-1777471380-1777496400@rubinvet.pl
SUMMARY:14.30 - 21.00 lek. wet. Rafał Kaczor
DESCRIPTION:
URL:https://rubinvet.pl/dyzur/14-30-21-00-lek-wet-rafal-kaczor-494/
END:VEVENT
BEGIN:VEVENT
DTSTART;TZID="Europe/Warsaw":20260429T143000
DTEND;TZID="Europe/Warsaw":20260429T210000
DTSTAMP:20260424T214751
CREATED:20260326T190303Z
LAST-MODIFIED:20260326T190303Z
UID:14384-1777473000-1777496400@rubinvet.pl
SUMMARY:14.30 - 21.00 lek. wet. Marta Barczak
DESCRIPTION:
URL:https://rubinvet.pl/dyzur/14-30-21-00-lek-wet-marta-barczak-89/
END:VEVENT
END:VCALENDAR