BEGIN:VCALENDAR
VERSION:2.0
PRODID:-//Gabinet Weterynaryjny RubinVet | Piaseczno, Józefosław - ECPv4.9.8//NONSGML v1.0//EN
CALSCALE:GREGORIAN
METHOD:PUBLISH
X-WR-CALNAME:Gabinet Weterynaryjny RubinVet | Piaseczno, Józefosław
X-ORIGINAL-URL:https://rubinvet.pl
X-WR-CALDESC:Dyżury: Gabinet Weterynaryjny RubinVet | Piaseczno, Józefosław
BEGIN:VTIMEZONE
TZID:Europe/Warsaw
BEGIN:DAYLIGHT
TZOFFSETFROM:+0100
TZOFFSETTO:+0200
TZNAME:CEST
DTSTART:20260329T010000
END:DAYLIGHT
BEGIN:STANDARD
TZOFFSETFROM:+0200
TZOFFSETTO:+0100
TZNAME:CET
DTSTART:20261025T010000
END:STANDARD
END:VTIMEZONE
BEGIN:VEVENT
DTSTART;TZID="Europe/Warsaw":20260506T080000
DTEND;TZID="Europe/Warsaw":20260506T143000
DTSTAMP:20260424T132529
CREATED:20260424T083341Z
LAST-MODIFIED:20260424T083341Z
UID:14449-1778054400-1778077800@rubinvet.pl
SUMMARY:8.00 - 14.30 lek. wet. Zofia Maksimowicz-Malik zapisy
DESCRIPTION:
URL:https://rubinvet.pl/dyzur/8-00-14-30-lek-wet-zofia-maksimowicz-malik-zapisy-51/
END:VEVENT
BEGIN:VEVENT
DTSTART;TZID="Europe/Warsaw":20260506T080000
DTEND;TZID="Europe/Warsaw":20260506T143000
DTSTAMP:20260424T132529
CREATED:20260424T083401Z
LAST-MODIFIED:20260424T083401Z
UID:14451-1778054400-1778077800@rubinvet.pl
SUMMARY:8.00 - 14.30 lek. wet. Adrianna Raboszuk
DESCRIPTION:
URL:https://rubinvet.pl/dyzur/8-00-14-30-lek-wet-adrianna-raboszuk-101/
END:VEVENT
BEGIN:VEVENT
DTSTART;TZID="Europe/Warsaw":20260506T080000
DTEND;TZID="Europe/Warsaw":20260506T150000
DTSTAMP:20260424T132529
CREATED:20260424T083425Z
LAST-MODIFIED:20260424T083425Z
UID:14453-1778054400-1778079600@rubinvet.pl
SUMMARY:8.00 - 15.00 tech. wet. Dominika Michalak
DESCRIPTION:
URL:https://rubinvet.pl/dyzur/8-00-15-00-tech-wet-dominika-michalak-310/
END:VEVENT
BEGIN:VEVENT
DTSTART;TZID="Europe/Warsaw":20260506T080000
DTEND;TZID="Europe/Warsaw":20260506T143000
DTSTAMP:20260424T132529
CREATED:20260424T083535Z
LAST-MODIFIED:20260424T083535Z
UID:14455-1778054400-1778077800@rubinvet.pl
SUMMARY:8.00 - 14.30 lek. wet. Rafał Kaczor zapisy
DESCRIPTION:
URL:https://rubinvet.pl/dyzur/8-00-14-30-lek-wet-rafal-kaczor-zapisy-79/
END:VEVENT
BEGIN:VEVENT
DTSTART;TZID="Europe/Warsaw":20260506T143000
DTEND;TZID="Europe/Warsaw":20260506T210000
DTSTAMP:20260424T132529
CREATED:20260424T083619Z
LAST-MODIFIED:20260424T083619Z
UID:14457-1778077800-1778101200@rubinvet.pl
SUMMARY:14.30 - 21.00 lek. wet. Gabriela Winiarska zapisy
DESCRIPTION:
URL:https://rubinvet.pl/dyzur/14-30-21-00-lek-wet-gabriela-winiarska-zapisy-23/
END:VEVENT
BEGIN:VEVENT
DTSTART;TZID="Europe/Warsaw":20260506T143000
DTEND;TZID="Europe/Warsaw":20260506T210000
DTSTAMP:20260424T132529
CREATED:20260424T083638Z
LAST-MODIFIED:20260424T083638Z
UID:14459-1778077800-1778101200@rubinvet.pl
SUMMARY:14.30 - 21.00 lek. wet. Marta Barczak
DESCRIPTION:
URL:https://rubinvet.pl/dyzur/14-30-21-00-lek-wet-marta-barczak-91/
END:VEVENT
END:VCALENDAR