BEGIN:VCALENDAR
VERSION:2.0
PRODID:-//Gabinet Weterynaryjny RubinVet | Piaseczno, Józefosław - ECPv4.9.8//NONSGML v1.0//EN
CALSCALE:GREGORIAN
METHOD:PUBLISH
X-WR-CALNAME:Gabinet Weterynaryjny RubinVet | Piaseczno, Józefosław
X-ORIGINAL-URL:https://rubinvet.pl
X-WR-CALDESC:Dyżury: Gabinet Weterynaryjny RubinVet | Piaseczno, Józefosław
BEGIN:VTIMEZONE
TZID:Europe/Warsaw
BEGIN:DAYLIGHT
TZOFFSETFROM:+0100
TZOFFSETTO:+0200
TZNAME:CEST
DTSTART:20260329T010000
END:DAYLIGHT
BEGIN:STANDARD
TZOFFSETFROM:+0200
TZOFFSETTO:+0100
TZNAME:CET
DTSTART:20261025T010000
END:STANDARD
END:VTIMEZONE
BEGIN:VEVENT
DTSTART;TZID="Europe/Warsaw":20260507T080000
DTEND;TZID="Europe/Warsaw":20260507T143000
DTSTAMP:20260424T145255
CREATED:20260424T083731Z
LAST-MODIFIED:20260424T083731Z
UID:14461-1778140800-1778164200@rubinvet.pl
SUMMARY:8.00 - 14.30 lek. wet. Gabriela Winiarska
DESCRIPTION:
URL:https://rubinvet.pl/dyzur/8-00-14-30-lek-wet-gabriela-winiarska-127/
END:VEVENT
BEGIN:VEVENT
DTSTART;TZID="Europe/Warsaw":20260507T080000
DTEND;TZID="Europe/Warsaw":20260507T150000
DTSTAMP:20260424T145255
CREATED:20260424T083756Z
LAST-MODIFIED:20260424T083756Z
UID:14463-1778140800-1778166000@rubinvet.pl
SUMMARY:8.00 - 15.00 tech. wet. Dominika Michalak
DESCRIPTION:
URL:https://rubinvet.pl/dyzur/8-00-15-00-tech-wet-dominika-michalak-311/
END:VEVENT
BEGIN:VEVENT
DTSTART;TZID="Europe/Warsaw":20260507T143000
DTEND;TZID="Europe/Warsaw":20260507T210000
DTSTAMP:20260424T145255
CREATED:20260424T083837Z
LAST-MODIFIED:20260424T083837Z
UID:14465-1778164200-1778187600@rubinvet.pl
SUMMARY:14.30 - 21.00 lek. wet. Rafał Kaczor zapisy
DESCRIPTION:
URL:https://rubinvet.pl/dyzur/14-30-21-00-lek-wet-rafal-kaczor-zapisy-97/
END:VEVENT
BEGIN:VEVENT
DTSTART;TZID="Europe/Warsaw":20260507T143000
DTEND;TZID="Europe/Warsaw":20260507T210000
DTSTAMP:20260424T145255
CREATED:20260424T083917Z
LAST-MODIFIED:20260424T083917Z
UID:14467-1778164200-1778187600@rubinvet.pl
SUMMARY:14.30 - 21.00 lek. wet. Zofia Maksimowicz-Malik zapisy
DESCRIPTION:
URL:https://rubinvet.pl/dyzur/14-30-21-00-lek-wet-zofia-maksimowicz-malik-zapisy-37/
END:VEVENT
BEGIN:VEVENT
DTSTART;TZID="Europe/Warsaw":20260507T143000
DTEND;TZID="Europe/Warsaw":20260507T210000
DTSTAMP:20260424T145255
CREATED:20260424T083945Z
LAST-MODIFIED:20260424T083945Z
UID:14469-1778164200-1778187600@rubinvet.pl
SUMMARY:14.30 - 21.00 lek. wet. Marta Barczak
DESCRIPTION:
URL:https://rubinvet.pl/dyzur/14-30-21-00-lek-wet-marta-barczak-92/
END:VEVENT
END:VCALENDAR